BEGIN:VCALENDAR
VERSION:2.0
PRODID:-//ChamberMaster//Event Calendar 2.0//EN
METHOD:PUBLISH
X-PUBLISHED-TTL:P3D
REFRESH-INTERVAL:P3D
CALSCALE:GREGORIAN
BEGIN:VEVENT
DTSTART:20261215T233000Z
DTEND:20261216T013000Z
X-MICROSOFT-CDO-ALLDAYEVENT:FALSE
SUMMARY:Women's Business Network - Sip & Unplug - December 2026
DESCRIPTION:More information coming soon!
X-ALT-DESC;FMTTYPE=text/html:<p><font face="tahoma"><span style="font-size: 14px\;"><b>More information coming soon!</b></span></font><br />\n<br />\n&nbsp\;</p>\n
LOCATION:
UID:e.1234.11691
SEQUENCE:3
DTSTAMP:20260421T152214Z
URL:http://lafayettecolorado.preview.gochambermaster.com/events/details/women-s-business-network-sip-unplug-december-2026-11691
END:VEVENT

END:VCALENDAR
