BEGIN:VCALENDAR
VERSION:2.0
PRODID:-//ChamberMaster//Event Calendar 2.0//EN
METHOD:PUBLISH
X-PUBLISHED-TTL:P3D
REFRESH-INTERVAL:P3D
CALSCALE:GREGORIAN
BEGIN:VEVENT
DTSTART:20251118T183000Z
DTEND:20251118T200000Z
X-MICROSOFT-CDO-ALLDAYEVENT:FALSE
SUMMARY:Women's Business Network - Monthly Luncheon - November 2025
DESCRIPTION:Women's Business Network Monthly Luncheon\n\n**special date to accomdate Thanksgiving week**\n\n\n\nEach month the Lafayette Chamber of Commerce hosts a luncheon with networking and a featured speaker or activity for professional and entrepreneurial women in and around Lafayette. The Women's Business Network is a fun\, friendly\, and open networking and learning environment. \n\n\n\nNovember session information below! \n\n\n\nA big thank you to BizWest for sponsoring Q4 Women's Business Network luncheons!\n\n____________________________________________________________\n\n\n\nTacos & Taxes\n\nTaxes don't have to be intimidating   especially when you've got the right team on your side. Join us for a relaxed and informative lunch featuring a panel of local experts who will share practical tips to help you navigate the 2026 tax season with ease. You'll have the chance to ask questions\, connect with other women in business\, and even chat one-on-one with our speakers for personalized guidance.\n\n\n\n Lunch is being catered from Rev Mex. \n\n\n\nJoin us for good food\, great company\, and useful advice!
X-ALT-DESC;FMTTYPE=text/html:<p><span style="font-size:16px\;"><span style="font-family:verdana\;"><span style="box-sizing: border-box\; outline: 0px\;"><strong><span style="box-sizing: border-box\; outline: 0px\;">Women&#39\;s Business Network Monthly Luncheon</span></strong><br />\n<span style="box-sizing: border-box\; outline: 0px\;">**special date to accomdate Thanksgiving week**</span><br style="box-sizing: border-box\;" />\n<br style="box-sizing: border-box\;" />\nEach month&nbsp\;the Lafayette Chamber of Commerce&nbsp\;hosts a luncheon with networking and a featured speaker or activity for professional and entrepreneurial women in and around Lafayette. The Women&#39\;s Business Network is a fun\, friendly\, and open networking and learning environment.&nbsp\;</span><br style="font-size: 16px\; box-sizing: border-box\; font-family: arial\;" />\n<br style="font-size: 16px\; box-sizing: border-box\; font-family: arial\;" />\n<span style="box-sizing: border-box\; caret-color: rgb(36\, 36\, 36)\; color: rgb(36\, 36\, 36)\;"><em style="box-sizing: border-box\;">November session information below!&nbsp\;</em></span></span></span><br />\n<br />\n<span style="font-family: verdana\; font-size: 16px\;">A big thank you to BizWest for sponsoring Q4 Women&#39\;s Business Network luncheons!</span><br style="font-size: 16px\; box-sizing: border-box\; font-family: arial\;" />\n<span style="font-size:16px\;"><span style="font-family:verdana\;"><span style="box-sizing: border-box\;">____________________________________________________________<br />\n<br />\n<strong>Tacos &amp\; Taxes</strong></span></span><br data-end="929" data-start="926" style="caret-color: rgb(0\, 0\, 0)\; color: rgb(0\, 0\, 0)\;" />\n<span style="font-family:verdana\;"><span style="caret-color: rgb(0\, 0\, 0)\; color: rgb(0\, 0\, 0)\;">Taxes don&rsquo\;t have to be intimidating &mdash\; especially when you&rsquo\;ve got the right team on your side. Join us for a relaxed and informative lunch featuring a panel of local experts who will share practical tips to help you navigate the 2026 tax season with ease. You&rsquo\;ll have the chance to ask questions\, connect with other women in business\, and even chat one-on-one with our speakers for personalized guidance.</span><br data-end="1331" data-start="1328" style="caret-color: rgb(0\, 0\, 0)\; color: rgb(0\, 0\, 0)\;" />\n<br />\n<span style="caret-color: rgb(0\, 0\, 0)\; color: rgb(0\, 0\, 0)\;">&nbsp\;Lunch is being catered from <a href="https://www.facebook.com/revmexfoodtruck/">Rev Mex</a>.&nbsp\;</span></span></span><br />\n<br />\n<span style="caret-color: rgb(0\, 0\, 0)\; color: rgb(0\, 0\, 0)\; font-family: verdana\; font-size: 16px\;">Join us for good food\, great company\, and useful advice!</span></p>\n
LOCATION:The Meeting Room Lafayette Public Library 775 Baseline Rd. Lafayette\,CO 80226
UID:e.1234.11407
SEQUENCE:3
DTSTAMP:20260420T070935Z
URL:http://lafayettecolorado.preview.gochambermaster.com/events/details/women-s-business-network-monthly-luncheon-november-2025-11407
END:VEVENT

END:VCALENDAR
