BEGIN:VCALENDAR
VERSION:2.0
PRODID:-//ChamberMaster//Event Calendar 2.0//EN
METHOD:PUBLISH
X-PUBLISHED-TTL:P3D
REFRESH-INTERVAL:P3D
CALSCALE:GREGORIAN
BEGIN:VEVENT
DTSTART:20250722T173000Z
DTEND:20250722T190000Z
X-MICROSOFT-CDO-ALLDAYEVENT:FALSE
SUMMARY:Women's Business Network - Fourth Tuesday of Every Month!
DESCRIPTION:Women's Business Network Luncheon\n\nHeld the fourth Tuesday of every month from 11:30am-1:00pm at the Lafayette Public Library in the Meeting Room. \n\n\n\nEach month the Lafayette Chamber of Commerce offers a luncheon with networking and featured speaker or activity for professional and entrepreneurial women in and around Lafayette. The Women's Business Network is a fun\, friendly\, and open networking and learning environment. \n\n\n\nJuly session information below.\n\n_____________________________________________________________________________\n\n\nCommunication Hacks: Deep Presence\, Real Connection\n\nPresented By: Helene Rose\n\nThis workshop invites you to explore how deep inner listening transforms the way you communicate   with more clarity\, authenticity\, and connection.\n\nParticipants will practice being present with themselves and each other while sharing in a safe\, structured space. We'll explore practical tools and embodied awareness that apply to every area of life   from intimate relationships to business conversations. Because powerful communication begins not with what you say\, but with how present you are.\n\nHelene Rose\, MS\, MEd is a transformational life purpose and relationship coach\, professional speaker\, and founder of Be Brilliant Network. With degrees in both engineering and educational leadership\, Helene brings a rare blend of analytical precision and heart-centered wisdom to her work. She spent over a decade as a public school educator and leader and began her career as a mechanical engineer\, experiences that deeply inform her grounded and compassionate approach to personal growth. Today\, she guides individuals and groups in reconnecting with their inner truth\, creating clarity\, and leading their lives from within   with presence\, purpose\, and authenticity.\n\n\n\nLunch to be catered by Butcher and The Blonde. \n\n\n\nWe look foward to an amazing session! Please reach out to Becca at events@lafayettecolroado.com with any questions.
X-ALT-DESC;FMTTYPE=text/html:<p><span style="font-family:arial\;"><span style="font-size:14px\;"><strong>Women&#39\;s Business Network Luncheon</strong><br />\nHeld the fourth Tuesday of every month from 11:30am-1:00pm at the Lafayette Public Library in the Meeting Room.&nbsp\;<br />\n<br />\nEach month the Lafayette Chamber of Commerce&nbsp\;offers a luncheon with networking and featured speaker or activity for professional and entrepreneurial women in and around Lafayette. The Women&#39\;s Business Network is a fun\, friendly\, and open networking and learning environment.&nbsp\;</span><br />\n<br />\n<span style="caret-color: rgb(36\, 36\, 36)\; color: rgb(36\, 36\, 36)\; font-size: 14px\;"><em>July session information below.</em></span><br />\n<span style="font-size:14px\;">_____________________________________________________________________________</span></span></p>\n\n<div style="border: 0px\; font-variant-numeric: inherit\; font-variant-east-asian: inherit\; font-variant-alternates: inherit\; font-variant-position: inherit\; font-variant-emoji: inherit\; font-stretch: inherit\; font-size: 15px\; line-height: inherit\; font-family: &quot\;Segoe UI&quot\;\, &quot\;Segoe UI Web (West European)&quot\;\, -apple-system\, BlinkMacSystemFont\, Roboto\, &quot\;Helvetica Neue&quot\;\, sans-serif\; font-optical-sizing: inherit\; font-size-adjust: inherit\; font-kerning: inherit\; font-feature-settings: inherit\; font-variation-settings: inherit\; margin: 0px\; padding: 0px\; vertical-align: baseline\; color: rgb(36\, 36\, 36)\;">\n<p class="x_gmail-paragraph" style="margin: 0in\; font-size: 12pt\; font-family: Aptos\, sans-serif\; vertical-align: baseline\;"><span style="font-size:14px\;"><span style="font-family:arial\;"><b style="font-size: 16px\; caret-color: rgb(0\, 0\, 0)\; color: rgb(0\, 0\, 0)\; font-family: &quot\;Aptos Serif&quot\;\, Aptos_EmbeddedFont\, Aptos_MSFontService\, serif\;">Communication Hacks: Deep Presence\, Real Connection<br />\nPresented By:&nbsp\;Helene Rose</b></span></span></p>\n\n<div class="elementToProof" data-ogsc="rgb(0\, 0\, 0)" style="font-size: 12pt\; caret-color: rgb(0\, 0\, 0)\; margin-top: 1em\; margin-bottom: 1em\; font-family: &quot\;Aptos Serif&quot\;\, Aptos_EmbeddedFont\, Aptos_MSFontService\, serif\; color: rgb(0\, 0\, 0) !important\;"><span style="font-size:14px\;"><span style="font-family:arial\;">This workshop invites you to explore how deep inner listening transforms the way you communicate &mdash\; with more clarity\, authenticity\, and connection.</span></span></div>\n\n<div class="elementToProof" data-ogsc="rgb(0\, 0\, 0)" style="font-size: 12pt\; caret-color: rgb(0\, 0\, 0)\; margin-top: 1em\; margin-bottom: 1em\; font-family: &quot\;Aptos Serif&quot\;\, Aptos_EmbeddedFont\, Aptos_MSFontService\, serif\; color: rgb(0\, 0\, 0) !important\;"><span style="font-size:14px\;"><span style="font-family:arial\;">Participants will practice being present with themselves and each other while sharing in a safe\, structured space. We&rsquo\;ll explore practical tools and embodied awareness that apply to every area of life &mdash\; from intimate relationships to business conversations. Because powerful communication begins not with what you say\, but with how present you are.</span></span></div>\n\n<div class="elementToProof" data-ogsc="rgb(0\, 0\, 0)" style="font-size: 12pt\; caret-color: rgb(0\, 0\, 0)\; margin-top: 1em\; margin-bottom: 1em\; font-family: &quot\;Aptos Serif&quot\;\, Aptos_EmbeddedFont\, Aptos_MSFontService\, serif\; color: rgb(0\, 0\, 0) !important\;"><span style="font-size:14px\;"><span style="font-family:arial\;">Helene Rose\, MS\, MEd&nbsp\;is a transformational life purpose and relationship coach\, professional speaker\, and founder of <a href="https://helenerose.com">Be Brilliant Network</a>. With degrees in both engineering and educational leadership\, Helene brings a rare blend of analytical precision and heart-centered wisdom to her work. She spent over a decade as a public school educator and leader and began her career as a mechanical engineer\, experiences that deeply inform her grounded and compassionate approach to personal growth. Today\, she guides individuals and groups in reconnecting with their inner truth\, creating clarity\, and leading their lives from within &mdash\; with presence\, purpose\, and authenticity.<br />\n<br />\nLunch to be catered by <a href="https://www.butcherandtheblonde.com">Butcher and The Blonde.&nbsp\;</a><br />\n<br />\nWe look foward to an amazing session! Please reach out to Becca at events@lafayettecolroado.com with any questions.&nbsp\;</span></span></div>\n</div>\n
LOCATION:
UID:e.1234.11332
SEQUENCE:3
DTSTAMP:20260420T035431Z
URL:http://lafayettecolorado.preview.gochambermaster.com/events/details/women-s-business-network-fourth-tuesday-of-every-month-11332
END:VEVENT

END:VCALENDAR
