BEGIN:VCALENDAR
VERSION:2.0
PRODID:-//ChamberMaster//Event Calendar 2.0//EN
METHOD:PUBLISH
X-PUBLISHED-TTL:P3D
REFRESH-INTERVAL:P3D
CALSCALE:GREGORIAN
BEGIN:VEVENT
DTSTART:20240804T170000Z
DTEND:20240804T183000Z
X-MICROSOFT-CDO-ALLDAYEVENT:FALSE
SUMMARY:Understanding and Healing Chronic Pain
DESCRIPTION:Did you know that sometimes chronic back pain\, neck pain\, fibromyalgia symptoms\, repetitive strain injury\, headaches\, and other forms of chronic pain are not the result of structural causes\, but of your brain misinterpreting safe messages from the body as pain signals?\n\n\n\nNyle Biondi MS\, LMFT has been on his own healing journey with chronic pain\, and in this FREE workshop he will explain the true nature of chronic pain and offer some concrete strategies to help you turn down the volume\, or even turn off\, chronic pain. Learn how to break the fear cycles that exacerbate pain to create lasting changes in your mind and body.
X-ALT-DESC;FMTTYPE=text/html:Did you know that&nbsp\;sometimes chronic back pain\, neck pain\, fibromyalgia symptoms\, repetitive strain injury\, headaches\, and other forms of chronic pain are not the result of structural causes\, but of your brain misinterpreting safe messages from the body as pain signals?<br />\n<br />\nNyle Biondi MS\, LMFT has been on his own healing journey with chronic pain\, and in this FREE workshop&nbsp\;he will explain the true nature of chronic pain and offer some concrete strategies to help you turn down the volume\, or even turn off\, chronic pain. Learn how to break the fear cycles that exacerbate pain to create lasting changes in your mind and body.
LOCATION:Wild Blue Acupuncture & Wellness 401 E Cleveland St\, Unit C Lafayette\, CO 80026
UID:e.1234.10639
SEQUENCE:3
DTSTAMP:20260421T170612Z
URL:http://lafayettecolorado.preview.gochambermaster.com/events/details/understanding-and-healing-chronic-pain-10639
END:VEVENT

END:VCALENDAR
