BEGIN:VCALENDAR
VERSION:2.0
PRODID:-//ChamberMaster//Event Calendar 2.0//EN
METHOD:PUBLISH
X-PUBLISHED-TTL:P3D
REFRESH-INTERVAL:P3D
CALSCALE:GREGORIAN
BEGIN:VEVENT
DTSTART:20240302T023000Z
DTEND:20240310T203000Z
X-MICROSOFT-CDO-ALLDAYEVENT:FALSE
SUMMARY:Sweeney Todd
DESCRIPTION:Attend this terrifying tale of murder\, mayhem and meat pies\, brought to you in a special collaboration between The Arts Hub and Tracy Warren\, of Boulder Dinner Theatre fame.\n\nSweeney Todd has returned to London\, after serving a sentence for a crime he did not commit\, only to find his family destroyed by the man who framed him. Determined to take his revenge on a society that abandoned and betrayed him\, Todd returns to his old barber shop\, which happens to be above the failing pie shop of his old landlady\, Mrs. Lovett. The two of them quickly discover that they can help each other - Mr. Todd can provide Mrs. Lovett with a certain crucial ingredient for her meat pies\, and Mrs. Lovett can ensure that Mr. Todd's murderous rampage will never be discovered. London will never be the same.\n\nThis production is performed by our adult community theatre troupe\, the Arts Hub Players. Is is approximately 2.5 hours long\, including intermission. This production is rated R\, and no children's tickets are available for purchase.
X-ALT-DESC;FMTTYPE=text/html:<!-- x-tinymce/html -->\n<p>Attend this terrifying tale of murder\, mayhem and meat pies\, brought to you in a special collaboration between The Arts Hub and Tracy Warren\, of Boulder Dinner Theatre fame.</p>\n\n<p>Sweeney Todd has returned to London\, after serving a sentence for a crime he did not commit\, only to find his family destroyed by the man who framed him. Determined to take his revenge on a society that abandoned and betrayed him\, Todd returns to his old barber shop\, which happens to be above the failing pie shop of his old landlady\, Mrs. Lovett. The two of them quickly discover that they can help each other - Mr. Todd can provide Mrs. Lovett with a certain crucial ingredient for her meat pies\, and Mrs. Lovett can ensure that Mr. Todd&#39\;s murderous rampage will never be discovered. London will never be the same.</p>\n\n<p><strong>This production is performed by our adult community theatre troupe\, the Arts Hub Players. Is is approximately 2.5 hours long\, including intermission. This production is rated R\, and no children&rsquo\;s tickets are available for purchase.</strong></p>\n
LOCATION:The Arts Hub 420 Courtney Way Lafayette\, CO 80026
UID:e.1234.10498
SEQUENCE:3
DTSTAMP:20260422T121054Z
URL:http://lafayettecolorado.preview.gochambermaster.com/events/details/sweeney-todd-10498
END:VEVENT

END:VCALENDAR
