BEGIN:VCALENDAR
VERSION:2.0
PRODID:-//ChamberMaster//Event Calendar 2.0//EN
METHOD:PUBLISH
X-PUBLISHED-TTL:P3D
REFRESH-INTERVAL:P3D
CALSCALE:GREGORIAN
BEGIN:VEVENT
DTSTART:20220913T230000Z
DTEND:20220914T010000Z
X-MICROSOFT-CDO-ALLDAYEVENT:FALSE
SUMMARY:September Networking Mixer -- Wild Blue Acupuncture
DESCRIPTION:September Networking Mixer at Wild Blue Acupuncture\n\n401 E. Cleveland St. Unit C\n\nTuesday\, September 13th\n\n5pm to 7pm\n\nRSVP by Thursday\, Sept. 8th\n\n\n\nCome for a great time with food and networking with our Chamber Members!
X-ALT-DESC;FMTTYPE=text/html:<div style="text-align: center\;"><strong><span style="font-size:18px\;">September Networking Mixer at Wild Blue Acupuncture<br />\n401 E. Cleveland St. Unit C<br />\nTuesday\, September 13th<br />\n5pm to 7pm</span></strong><br />\n<span style="font-size:18px\;"><span style="font-size:16px\;">RSVP by Thursday\, Sept. 8th</span></span><br />\n<br />\n<span style="font-size:16px\;">Come for a great time with food and networking with our Chamber Members!</span></div>\n
LOCATION:401 E. Cleveland St. Unit C
UID:e.1234.8974
SEQUENCE:3
DTSTAMP:20260424T172949Z
URL:http://lafayettecolorado.preview.gochambermaster.com/events/details/september-networking-mixer-wild-blue-acupuncture-8974
END:VEVENT

END:VCALENDAR
