BEGIN:VCALENDAR
VERSION:2.0
PRODID:-//ChamberMaster//Event Calendar 2.0//EN
METHOD:PUBLISH
X-PUBLISHED-TTL:P3D
REFRESH-INTERVAL:P3D
CALSCALE:GREGORIAN
BEGIN:VEVENT
DTSTART:20250329T160000Z
DTEND:20250330T200000Z
X-MICROSOFT-CDO-ALLDAYEVENT:FALSE
SUMMARY:Sensual Flow Essentials Workshop
DESCRIPTION:Join us in a delicious journey for women into your sacred feminine!\n\nYou will discover how clothing\, music\, circular movements and a community of high vibrational women can awaken you to a more authentic expression and improve self-confidence. \n\nWorkshop runs 10am - 2pm Saturday & Sunday\n\nInvestment: $250\n\nYou deserve to put down the struggle and find an avenue for yourself that inherently is fun\, graceful and fulfilling AND builds confidence and love for the curves you are in!
X-ALT-DESC;FMTTYPE=text/html:<div>Join us in a delicious journey for women into your sacred feminine!<br />\nYou will discover how clothing\, music\, circular movements and a community of high vibrational women can awaken you to a more authentic expression and improve self-confidence.&nbsp\;</div>\n\n<div>Workshop runs 10am - 2pm Saturday &amp\; Sunday</div>\n\n<div>Investment: $250</div>\n\n<div>You deserve to put down the struggle and find an avenue for yourself that inherently is fun\, graceful and fulfilling AND builds confidence and love for the curves you are in!&nbsp\;</div>\n
LOCATION:
UID:e.1234.11305
SEQUENCE:3
DTSTAMP:20260420T151519Z
URL:http://lafayettecolorado.preview.gochambermaster.com/events/details/sensual-flow-essentials-workshop-11305
END:VEVENT

END:VCALENDAR
