BEGIN:VCALENDAR
VERSION:2.0
PRODID:-//ChamberMaster//Event Calendar 2.0//EN
METHOD:PUBLISH
X-PUBLISHED-TTL:P3D
REFRESH-INTERVAL:P3D
CALSCALE:GREGORIAN
BEGIN:VEVENT
DTSTART:20241107T233000Z
DTEND:20241108T003000Z
X-MICROSOFT-CDO-ALLDAYEVENT:FALSE
SUMMARY:Ribbon Cutting @ ViaTek
DESCRIPTION:The Lafayette Chamber of Commerce is pleased to invite you to the official ribbon-cutting ceremony for ViaTek\, a new member of our Chamber\, on Thursday\, November 7th\, 2024\, from 4:30 PM to 5:30 PM.\n\nViaTek is a local IT company that embraces a people-first philosophy. They offer all-inclusive\, proactive IT support services designed to help businesses maximize productivity and efficiency. Join us as we welcome ViaTek to our community\, meet their dedicated team\, and learn about their commitment to providing exceptional support for local businesses.\n\n\n\nLight refreshments will be provided\, along with opportunities to network with local business leaders and other Chamber members. We hope you will join us in celebrating ViaTek and supporting their vision of enhancing productivity through outstanding IT services.
X-ALT-DESC;FMTTYPE=text/html:<p>The Lafayette Chamber of Commerce is pleased to invite you to the official ribbon-cutting ceremony for <strong>ViaTek</strong>\, a new member of our Chamber\, on <strong>Thursday\, November 7th\, 2024\, from 4:30 PM to 5:30 PM</strong>.</p>\n\n<p><strong>ViaTek</strong> is a local IT company that embraces a people-first philosophy. They offer all-inclusive\, proactive IT support services designed to help businesses maximize productivity and efficiency. Join us as we welcome ViaTek to our community\, meet their dedicated team\, and learn about their commitment to providing exceptional support for local businesses.<br />\n<br />\nLight refreshments will be provided\, along with opportunities to network with local business leaders and other Chamber members. We hope you will join us in celebrating ViaTek and supporting their vision of enhancing productivity through outstanding IT services.</p>\n\n<p>&nbsp\;</p>\n
LOCATION:1208 Commerce Ct Suite 1q Lafayette\, CO 80026
UID:e.1234.10673
SEQUENCE:3
DTSTAMP:20260420T211150Z
URL:http://lafayettecolorado.preview.gochambermaster.com/events/details/ribbon-cutting-viatek-10673
END:VEVENT

END:VCALENDAR
