BEGIN:VCALENDAR
VERSION:2.0
PRODID:-//ChamberMaster//Event Calendar 2.0//EN
METHOD:PUBLISH
X-PUBLISHED-TTL:P3D
REFRESH-INTERVAL:P3D
CALSCALE:GREGORIAN
BEGIN:VEVENT
DTSTART:20230209T233000Z
DTEND:20230210T000000Z
X-MICROSOFT-CDO-ALLDAYEVENT:FALSE
SUMMARY:Ribbon Cutting @ Unpeel Skin Rejuvenation & Wellness Center
DESCRIPTION:Join us for a Ribbon Cutting at\n\nUnpeel Skin Rejuvenation & Wellness Center\n\n385 Crossing Dr. Suite 107 Studio 4\n\nThursday\, February 9th from 4:30 pm - 5:00 pm\n\nDr. Laura Darby MD uses only medical grade chemical peels that are made to be administered exclusively by doctors and other licensed aesthetic professionals. Her clinic chemical peels provide improvement to skin using a blend of results-driven ingredients\, including retinols\, antioxidants\, exfoliants and other age-defying agents.
X-ALT-DESC;FMTTYPE=text/html:Join us for a Ribbon Cutting at<br />\nUnpeel Skin Rejuvenation &amp\; Wellness Center<br />\n385 Crossing Dr. Suite 107 Studio 4<br />\nThursday\, February 9th from 4:30 pm - 5:00 pm<br />\nDr. Laura Darby MD uses only medical grade chemical peels that are made to be administered exclusively by doctors and other licensed aesthetic professionals. Her clinic chemical peels provide improvement to skin using a blend of results-driven ingredients\, including retinols\, antioxidants\, exfoliants and other age-defying agents.<br />\n&nbsp\;
LOCATION:385 Crossing Dr. Suite 107\, Studio 4
UID:e.1234.9121
SEQUENCE:3
DTSTAMP:20260424T071946Z
URL:http://lafayettecolorado.preview.gochambermaster.com/events/details/ribbon-cutting-unpeel-skin-rejuvenation-wellness-center-9121
END:VEVENT

END:VCALENDAR
