BEGIN:VCALENDAR
VERSION:2.0
PRODID:-//ChamberMaster//Event Calendar 2.0//EN
METHOD:PUBLISH
X-PUBLISHED-TTL:P3D
REFRESH-INTERVAL:P3D
CALSCALE:GREGORIAN
BEGIN:VEVENT
DTSTART:20210216T190000Z
DTEND:20210216T193000Z
X-MICROSOFT-CDO-ALLDAYEVENT:FALSE
SUMMARY:Ribbon Cutting @ The Well Healing Center
DESCRIPTION:Join us for a socially distanced\, completely safe Ribbon Cutting at The Well Healing Center.\n\n\n\nThe Well Healing Center is here to inspire families to live a healthier and more vital life through providing unique and gentle chiropractic and holistic care.\n\n\n\nFace Masks Required
X-ALT-DESC;FMTTYPE=text/html:Join us for a <span style="font-size:14px\;">socially distanced\, completely safe </span>Ribbon Cutting at The Well Healing Center.<br />\n<br />\nThe Well Healing Center is here to inspire families to live a healthier and more vital life through providing unique and gentle chiropractic and holistic care.<br />\n<br />\nFace Masks Required
LOCATION:400 E.Simpson St.\, #G7
UID:e.1234.8042
SEQUENCE:3
DTSTAMP:20260426T024651Z
URL:http://lafayettecolorado.preview.gochambermaster.com/events/details/ribbon-cutting-the-well-healing-center-8042
END:VEVENT

END:VCALENDAR
