BEGIN:VCALENDAR
VERSION:2.0
PRODID:-//ChamberMaster//Event Calendar 2.0//EN
METHOD:PUBLISH
X-PUBLISHED-TTL:P3D
REFRESH-INTERVAL:P3D
CALSCALE:GREGORIAN
BEGIN:VEVENT
DTSTART:20251022T223000Z
DTEND:20251022T233000Z
X-MICROSOFT-CDO-ALLDAYEVENT:FALSE
SUMMARY:Ribbon Cutting @ The Craft Place
DESCRIPTION:Ribbon Cutting at The Craft Place\n\nPlease join us in welcoming one of Lafayette's newest small businesses - The Craft Place! Whether you're looking for a quick\, playful craft or a more detailed creation\, they make it simple to tap into your creative side. The Craft Place are offically opening on October 18th so be sure to make a reservation to get creative and unwind. \n\nLocation: The Craft Place- 127 N Harrison Ave\, Unit 123\n\nDate: Wednesday\, October 22\, 2025\n\nTime: 4:30- 5:30 pm
X-ALT-DESC;FMTTYPE=text/html:<p data-end="169" data-start="98"><span style="font-size:16px\;"><span style="font-family:tahoma\;"><strong data-end="169" data-start="98">Ribbon Cutting at The Craft Place</strong></span></span></p>\n\n<p data-end="407" data-start="171"><span style="font-size:16px\;"><span style="font-family:tahoma\;"><span style="color:#000000\;">Please join us in welcoming one of Lafayette&#39\;s newest small businesses - <a href="https://thecraftplaceco.com">The Craft Place</a>!&nbsp\;</span><span style="caret-color: rgb(0\, 0\, 0)\;"><span style="color:#000000\;">Whether you&rsquo\;re looking for a quick\, playful craft or a more detailed creation\, they make&nbsp\;it simple to tap into your creative side. The Craft Place&nbsp\;are offically opening on October 18th so be sure to make a reservation to get creative and unwind.&nbsp\;</span></span></span></span></p>\n\n<p data-end="595" data-start="446" style="caret-color: rgb(0\, 0\, 0)\; color: rgb(0\, 0\, 0)\;"><span style="font-size:16px\;"><span style="font-family:tahoma\;"><strong data-end="459" data-start="446">Location:</strong>&nbsp\;The Craft Place- 127 N Harrison Ave\, Unit 123<br />\n<strong data-end="531" data-start="522">Date:</strong>&nbsp\;Wednesday\,&nbsp\;October 22\, 2025<br />\n<strong data-end="573" data-start="564">Time:</strong>&nbsp\;4:30- 5:30 pm</span></span></p>\n\n<p data-end="699" data-start="597" style="caret-color: rgb(0\, 0\, 0)\; color: rgb(0\, 0\, 0)\;">&nbsp\;</p>\n
LOCATION:
UID:e.1234.11431
SEQUENCE:3
DTSTAMP:20260420T124844Z
URL:http://lafayettecolorado.preview.gochambermaster.com/events/details/ribbon-cutting-the-craft-place-11431
END:VEVENT

END:VCALENDAR
