BEGIN:VCALENDAR
VERSION:2.0
PRODID:-//ChamberMaster//Event Calendar 2.0//EN
METHOD:PUBLISH
X-PUBLISHED-TTL:P3D
REFRESH-INTERVAL:P3D
CALSCALE:GREGORIAN
BEGIN:VEVENT
DTSTART:20230727T180000Z
DTEND:20230727T183000Z
X-MICROSOFT-CDO-ALLDAYEVENT:FALSE
SUMMARY:Ribbon Cutting @ Shawn Ritter- Shields Group Colorado
DESCRIPTION:Join us for a Ribbon Cutting celebrating Shawn Ritter Real Estate at the Lafayette Chamber Office.\n\nShawn Ritter is a part of the Shields Group Colorado at Coldwell Banker Realty and specializes in residential real estate. Your dream home is out there\, and Shawn can help you find it!\n\nhttp://www.shieldsgroupcolorado.com
X-ALT-DESC;FMTTYPE=text/html:Join us for a Ribbon Cutting celebrating Shawn Ritter Real Estate at the Lafayette Chamber Office.<br />\nShawn Ritter is a part of the Shields Group Colorado at Coldwell Banker Realty and specializes in residential real estate. Your dream home is out there\, and Shawn can help you find it!<br />\n<a href="http://www.shieldsgroupcolorado.com">http://www.shieldsgroupcolorado.com</a>
LOCATION:Lafayette Chamber 304 W. Baseline Rd. Lafayette\, CO 80026
UID:e.1234.9415
SEQUENCE:3
DTSTAMP:20260423T195047Z
URL:http://lafayettecolorado.preview.gochambermaster.com/events/details/ribbon-cutting-shawn-ritter-shields-group-colorado-9415
END:VEVENT

END:VCALENDAR
