BEGIN:VCALENDAR
VERSION:2.0
PRODID:-//ChamberMaster//Event Calendar 2.0//EN
METHOD:PUBLISH
X-PUBLISHED-TTL:P3D
REFRESH-INTERVAL:P3D
CALSCALE:GREGORIAN
BEGIN:VEVENT
DTSTART:20220328T233000Z
DTEND:20220329T000000Z
X-MICROSOFT-CDO-ALLDAYEVENT:FALSE
SUMMARY:Ribbon Cutting @ Ghost Box Pizza
DESCRIPTION:Help us kick off a great Grand Opening at Ghost Box Pizza!\n\nThere is an awesome evening planned with music\, giveaways\, snacks galore\, custom cocktails and more. The Grand Opening Party is scheduled from 4-8pm with the official Ribbon Cutting at 5:30. See you there!
X-ALT-DESC;FMTTYPE=text/html:<span style="font-size:14px\;">Help us kick off a great Grand Opening at Ghost Box Pizza!<br />\nThere is an awesome evening planned with music\, giveaways\, snacks galore\, custom cocktails and more. The Grand Opening Party is scheduled from 4-8pm with the official Ribbon Cutting at 5:30. See you there!</span><br />\n<br />\n&nbsp\;
LOCATION:103 South Public Road\, Lafayette\, Colorado 80026
UID:e.1234.8978
SEQUENCE:3
DTSTAMP:20260425T032002Z
URL:http://lafayettecolorado.preview.gochambermaster.com/events/details/ribbon-cutting-ghost-box-pizza-8978
END:VEVENT

END:VCALENDAR
