BEGIN:VCALENDAR
VERSION:2.0
PRODID:-//ChamberMaster//Event Calendar 2.0//EN
METHOD:PUBLISH
X-PUBLISHED-TTL:P3D
REFRESH-INTERVAL:P3D
CALSCALE:GREGORIAN
BEGIN:VEVENT
DTSTART:20230616T223000Z
DTEND:20230616T230000Z
X-MICROSOFT-CDO-ALLDAYEVENT:FALSE
SUMMARY:Ribbon Cutting @ Cherry's Cheesecakes & Delights\, LLC
DESCRIPTION:Join us for a Ribbon Cutting at\n\nCherry's Cheesecakes & Delights\, LLC with the Erie Chamber\n\n111 N. Harrison Ave.\n\nFriday\, June 16th at 4:30 - 5:00 pm\n\n\n\nThey specialize in over 100 different varieties of Gourmet Cheesecakes including vegan and gluten free. They also do Southern style barbecue on Saturdays for their special events and catering to your needs. They make their own rubs that will be carried in the shop as well.
X-ALT-DESC;FMTTYPE=text/html:Join us for a Ribbon Cutting at<br />\nCherry&#39\;s Cheesecakes &amp\; Delights\, LLC with the Erie Chamber<br />\n111 N. Harrison Ave.<br />\nFriday\, June 16th at 4:30 - 5:00 pm\n<div class="xieb3on">\n<div class="x9f619 x1n2onr6 x1ja2u2z x78zum5 x2lah0s x1qughib x1qjc9v5 xozqiw3 x1q0g3np x1pi30zi x1swvt13 xyamay9 xykv574 xbmpl8g x4cne27 xifccgj">\n<div class="x9f619 x1n2onr6 x1ja2u2z x78zum5 xdt5ytf x193iq5w xeuugli x1r8uery x1iyjqo2 xs83m0k xsyo7zv x16hj40l x10b6aqq x1yrsyyn">\n<div class="x2b8uid x1l90r2v xdppsyt">They specialize in over 100 different varieties of Gourmet Cheesecakes including vegan and gluten free. They also do Southern style barbecue on Saturdays for their special events and catering to your needs. They make their own rubs that will be carried in the shop as well.</div>\n</div>\n</div>\n</div>\n
LOCATION:111 N. Harrison Ave. Lafayette
UID:e.1234.9082
SEQUENCE:3
DTSTAMP:20260424T025117Z
URL:http://lafayettecolorado.preview.gochambermaster.com/events/details/ribbon-cutting-cherry-s-cheesecakes-delights-llc-9082
END:VEVENT

END:VCALENDAR
