BEGIN:VCALENDAR
VERSION:2.0
PRODID:-//ChamberMaster//Event Calendar 2.0//EN
METHOD:PUBLISH
X-PUBLISHED-TTL:P3D
REFRESH-INTERVAL:P3D
CALSCALE:GREGORIAN
BEGIN:VEVENT
DTSTART:20210629T220000Z
DTEND:20210630T000000Z
X-MICROSOFT-CDO-ALLDAYEVENT:FALSE
SUMMARY:Relocation Ribbon Cutting @ First American Title
DESCRIPTION:First American Title has moved and we want you to join with us and the Louisville Chamber as we celebrate their new location.\n\nJoin us on Tuesday\, June 29 at 4:00 pm for a ribbon cutting and open house to follow.
X-ALT-DESC;FMTTYPE=text/html:<p>First American Title has moved and we want you to join with us and the Louisville Chamber as we celebrate their new location.<br />\nJoin us on Tuesday\, June 29 at 4:00 pm for a ribbon cutting and open house to follow.<br />\n<br />\n&nbsp\;</p>\n
LOCATION:First American Title 1025 Cannon St.\, Ste. A\, Louisville
UID:e.1234.8096
SEQUENCE:3
DTSTAMP:20260425T210524Z
URL:http://lafayettecolorado.preview.gochambermaster.com/events/details/relocation-ribbon-cutting-first-american-title-8096
END:VEVENT

END:VCALENDAR
