BEGIN:VCALENDAR
VERSION:2.0
PRODID:-//ChamberMaster//Event Calendar 2.0//EN
METHOD:PUBLISH
X-PUBLISHED-TTL:P3D
REFRESH-INTERVAL:P3D
CALSCALE:GREGORIAN
BEGIN:VEVENT
DTSTART:20240530T003000Z
DTEND:20240530T013000Z
X-MICROSOFT-CDO-ALLDAYEVENT:FALSE
SUMMARY:Please join us! AmaWaterways River Cruise Zoom Call | Learn about "Gems of Southeast Europe" - five countries\, unpack once!
DESCRIPTION:Join us to learn about the wonderful world of river cruising\, and specifically AmaWaterways' seven-day "Gems of Southeast Europe" cruise on the Danube River\, June 30\, 2025.\n\n\n\nWe start in Romania\, end in Hungary and also explore Bulgaria\, Croatia\, and Serbia. If you opt for the land package(s)\, you'll also have the opportunity to visit two additional locations in Romania\, Istanbul\, Turkey\, and Vienna\, Austria.\n\n\n\nDuring the presentation there will be an opportunity to ask questions. For more information\, please visit the Groups page on our website. https://www.navigatetheworldtravel.com/\n\n\n\n*6:30 PM MT | *This presentation will be recorded if it does not align with your calendar
X-ALT-DESC;FMTTYPE=text/html:Join us to learn about the wonderful world of river cruising\, and specifically AmaWaterways&#39\; seven-day &quot\;Gems of Southeast Europe&quot\; cruise on the Danube River\, June 30\, 2025.<br />\n<br />\nWe start in Romania\, end in Hungary and also explore Bulgaria\, Croatia\, and Serbia. If you opt for the land package(s)\, you&#39\;ll also have the opportunity to visit two additional locations in Romania\, Istanbul\, Turkey\, and Vienna\, Austria.<br />\n<br />\nDuring the presentation there will be an opportunity to ask questions. For more information\, please visit the Groups page on our website. https://www.navigatetheworldtravel.com/<br />\n<br />\n*6:30 PM MT | *<strong>This presentation will be recorded if it does not align with your calendar</strong>
LOCATION:Zoom link: https://us04web.zoom.us/j/71708729531?pwd=PkbEfZKkvwnkSpgrbuJ4YHCzETH0Br.1
UID:e.1234.10610
SEQUENCE:3
DTSTAMP:20260422T052136Z
URL:http://lafayettecolorado.preview.gochambermaster.com/events/details/please-join-us-amawaterways-river-cruise-zoom-call-learn-about-gems-of-southeast-europe-five-countries-unpack-once-10610
END:VEVENT

END:VCALENDAR
