BEGIN:VCALENDAR
VERSION:2.0
PRODID:-//ChamberMaster//Event Calendar 2.0//EN
METHOD:PUBLISH
X-PUBLISHED-TTL:P3D
REFRESH-INTERVAL:P3D
CALSCALE:GREGORIAN
BEGIN:VEVENT
DTSTART:20210513T010000Z
DTEND:20210513T023000Z
X-MICROSOFT-CDO-ALLDAYEVENT:FALSE
SUMMARY:OPEN HOUSE - Zoom Workshop - Speak With Ease / Lafayette Toastmasters
DESCRIPTION:OPEN HOUSE     Zoom Workshop\n\n                      May 12\, 2021  /   7:00pm - 8:30pm MT\n\n       Speak With Ease - Lafayette Toastmasters \n\n\n\nOur current world of virtual engagement in both work and social settings has created communication challenges.\n\nPolish your communication and leadership skills and find ways to increase your confidence speaking and presenting.\n\nJoin us and learn how to have meaningful conversations\, connect through a screen and become a powerful speaker in front of any audience. \n\n\n                                                          Special Guest Speakers:\n\n\n\nTARA POWERS  International Leadership Speaker\, Founder and Chief Connection Officer of Powers Resource Center - Tara will share her speech\, "The Connection Revolution: How Focusing on Human Connection at Work is a Catalyst for Positive Change"\n\n\n\nBOB BENNETT Toastmaster\, Denver Speaker's Bureau\, 50+ years of public speaking experience\n\n\n\nPlease Pre-Register at .... https://forms.gle/z7TcxpwQTfgSwdfw9\n\n\n\nor Contact us at:    Speak With Ease - Lafayette Toastmasters ... www.speak-with-ease.org \n\n                                      "Where Connections Are Made"
X-ALT-DESC;FMTTYPE=text/html:<h2 style="font-style:italic">&nbsp\; &nbsp\; &nbsp\; &nbsp\; &nbsp\;<span style="font-family:arial\,helvetica\,sans-serif"><span style="font-size:22px"><span style="color:#0000FF"><strong><span style="font-size:28px">OPEN HOUSE</span>&nbsp\;&nbsp\;</strong></span></span><span style="font-size:14px">&nbsp\; &nbsp\;<strong><span style="color:#0000FF"><span style="font-size:16px">Zoom Workshop</span></span></strong><br />\n&nbsp\; &nbsp\; &nbsp\; &nbsp\; &nbsp\; <strong><span style="font-size:18px">&nbsp\; &nbsp\; &nbsp\; &nbsp\; &nbsp\; &nbsp\;<span style="color:#0000FF">&nbsp\;May 12\, 2021&nbsp\; /&nbsp\; &nbsp\;7:00pm - 8:30pm MT</span></span></strong></span><br />\n<strong><span style="font-size:18px">&nbsp\; <span style="font-size:22px">&nbsp\; &nbsp\;&nbsp\;</span></span></strong><span style="color:#0000FF"><span style="font-size:22px"><strong> Speak With Ease - Lafayette Toastmasters</strong></span>&nbsp\;</span></span><br />\n<br />\n<span style="font-size:18px"><strong>Our current world of virtual engagement in both work and social settings has created communication challenges.<br />\nPolish your communication and leadership skills and find ways to increase your confidence speaking and presenting.<br />\nJoin us and learn how to have meaningful conversations\, connect through a screen and become a powerful speaker in front of any audience.</strong>&nbsp\;</span></h2>\n<br />\n&nbsp\; &nbsp\; &nbsp\; &nbsp\; &nbsp\; &nbsp\; &nbsp\; &nbsp\; &nbsp\; &nbsp\; &nbsp\; &nbsp\; &nbsp\; &nbsp\; &nbsp\; &nbsp\; &nbsp\; &nbsp\; &nbsp\; &nbsp\; &nbsp\; &nbsp\; &nbsp\; &nbsp\; &nbsp\; &nbsp\;<span style="color:#0000FF"> &nbsp\; &nbsp\; &nbsp\;<strong><span style="font-size:18px"> Special Guest Speakers:</span></strong></span><br />\n<br />\n<span style="color:#DAA520"><strong>TARA POWERS</strong>&nbsp\;</span>&nbsp\;<em><span style="font-size:14px">International Leadership Speaker\, Founder and Chief Connection Officer of Powers Resource Center - Tara will share her speech\, &ldquo\;The Connection Revolution: How Focusing on Human Connection at Work is a Catalyst for Positive Change&rdquo\;</span></em><br />\n<br />\n<span style="color:#DAA520"><strong>BOB BENNETT</strong> </span><em>Toastmaster\, Denver Speaker&rsquo\;s Bureau\, 50+ years of public speaking experience</em><br />\n<br />\nPlease Pre-Register at <strong>....&nbsp\;</strong><a href="https://na01.safelinks.protection.outlook.com/?url=https%3A%2F%2Fforms.gle%2Fz7TcxpwQTfgSwdfw9&amp\;data=04%7C01%7C%7Cdfb3ef7e024e497efd6008d8ffc32d81%7C84df9e7fe9f640afb435aaaaaaaaaaaa%7C1%7C0%7C637540561669831097%7CUnknown%7CTWFpbGZsb3d8eyJWIjoiMC4wLjAwMDAiLCJQIjoiV2luMzIiLCJBTiI6Ik1haWwiLCJXVCI6Mn0%3D%7C1000&amp\;sdata=nLUelxwTMFpJxEn5Zrqow5d%2B7N4kBR%2BUDR0A3GSh%2Bk8%3D&amp\;reserved=0" rel="noopener noreferrer" style="font: inherit\; -webkit-font-smoothing: antialiased\; margin: 0px\; padding: 0px\; border: 0px\; vertical-align: baseline\; outline: 0px\;" target="_blank" title="Protected by Outlook: https://forms.gle/z7TcxpwQTfgSwdfw9. Click or tap to follow the link.">https://forms.gle/z7TcxpwQTfgSwdfw9</a><br />\n<br />\n<span style="color:#2A2A2A"><span style="font-family:arial\,sans-serif">or Contact us at:&nbsp\; &nbsp\; Speak With Ease - Lafayette Toastmasters</span></span><span style="color:#201F1E"><span style="font-family:arial\,sans-serif">&nbsp\;...</span></span>&nbsp\;<a href="https://nam12.safelinks.protection.outlook.com/?url=http%3A%2F%2Fwww.speak-with-ease.org%2F&amp\;data=04|01||93fbfa5d55bb4048e4ef08d8a1dd49f6|84df9e7fe9f640afb435aaaaaaaaaaaa|1|0|637437319079760638|Unknown|TWFpbGZsb3d8eyJWIjoiMC4wLjAwMDAiLCJQIjoiV2luMzIiLCJBTiI6Ik1haWwiLCJXVCI6Mn0%3D|1000&amp\;sdata=a8pTijo1GfW63ZL3QM%2Bkkhd0Uz%2FPzzGAr9pq7wHazxQ%3D&amp\;reserved=0" title="Protected by Outlook: http://www.speak-with-ease.org/. Click or tap to follow the link."><span style="color:blue"><span style="font-family:arial\,sans-serif">www.speak-with-ease.org</span></span></a>&nbsp\;<br />\n&nbsp\; &nbsp\; &nbsp\; &nbsp\; &nbsp\; &nbsp\; &nbsp\; &nbsp\; &nbsp\; &nbsp\; &nbsp\; &nbsp\; &nbsp\; &nbsp\; &nbsp\; &nbsp\; &nbsp\; &nbsp\; &nbsp\; &quot\;Where Connections Are Made&quot\;<br />\n<br />\n<br />\n<br />\n&nbsp\;
LOCATION:Zoom Meeting - Lots of Free Parking
UID:e.1234.8088
SEQUENCE:3
DTSTAMP:20260425T223450Z
URL:http://lafayettecolorado.preview.gochambermaster.com/events/details/open-house-zoom-workshop-speak-with-ease-lafayette-toastmasters-05-12-2021-8088
END:VEVENT

END:VCALENDAR
