BEGIN:VCALENDAR
VERSION:2.0
PRODID:-//ChamberMaster//Event Calendar 2.0//EN
METHOD:PUBLISH
X-PUBLISHED-TTL:P3D
REFRESH-INTERVAL:P3D
CALSCALE:GREGORIAN
BEGIN:VEVENT
DTSTART:20230129T170000Z
DTEND:20230129T210000Z
X-MICROSOFT-CDO-ALLDAYEVENT:FALSE
SUMMARY:OPEN HOUSE AT FLEX STRETCH THERAPY!
DESCRIPTION:Still not sure how assisted stretching can help you??\n\n \n\n\n\nMy suite mates and I are hosting an Open House from 10am-2pm on Sunday\, January 29th @ 401 E Cleveland St\, Lafayette\, CO. Collectively\, we will be offering complimentary assisted stretches\, a MELT mini-class\, chair massages\, muscle length and strength assessments\, ear acupuncture and more!\n\n \n\n\n\nEnjoy a restorative Sunday filled with relaxation\, raffles\, and refreshments.
X-ALT-DESC;FMTTYPE=text/html:<div>\n<div>Still not sure how assisted stretching can help you??<br />\n&nbsp\;</div>\n</div>\n\n<div>\n<div>My suite mates and I are hosting an Open House from 10am-2pm on Sunday\, January 29th @ 401 E Cleveland St\, Lafayette\, CO. Collectively\, we will be offering complimentary assisted stretches\, a MELT mini-class\, chair massages\, muscle length and strength assessments\, ear acupuncture and more!<br />\n&nbsp\;</div>\n</div>\n\n<div>\n<div>Enjoy a restorative Sunday filled with relaxation\, raffles\, and refreshments.</div>\n</div>\n
LOCATION:401 E Cleveland St\, Unit C\, Lafayette\, CO 80026
UID:e.1234.9120
SEQUENCE:3
DTSTAMP:20260424T144324Z
URL:http://lafayettecolorado.preview.gochambermaster.com/events/details/open-house-at-flex-stretch-therapy-9120
END:VEVENT

END:VCALENDAR
