BEGIN:VCALENDAR
VERSION:2.0
PRODID:-//ChamberMaster//Event Calendar 2.0//EN
METHOD:PUBLISH
X-PUBLISHED-TTL:P3D
REFRESH-INTERVAL:P3D
CALSCALE:GREGORIAN
BEGIN:VEVENT
DTSTART:20211020T230000Z
DTEND:20211021T010000Z
X-MICROSOFT-CDO-ALLDAYEVENT:FALSE
SUMMARY:October Networking Mixer @ Deki with Mici's Handcrafted Italian
DESCRIPTION:Networking Mixer-Deki Spirits with Mici's Handcrafted Italian\n\nWednesday\, October 20th from 5-7 pm\n\nRSVP by October 15th\n\nJoin us for delicious spirits\, handcrafted Italian food and networking with friends.
X-ALT-DESC;FMTTYPE=text/html:<div style="text-align: center\;"><strong><span style="color: rgb(51\, 51\, 51)\; font-family: sans-serif\, Arial\, Verdana\, ">Networking Mixer-Deki Spirits with Mici&#39\;s Handcrafted Italian</span></strong></div>\n\n<div style="text-align: center\;"><strong><span style="color: rgb(51\, 51\, 51)\; font-family: sans-serif\, Arial\, Verdana\, ">Wednesday\, October 20th from 5-7 pm<br />\nRSVP by October 15th</span></strong></div>\n\n<div style="text-align: center\;">Join us for delicious spirits\, handcrafted Italian food and networking with friends.</div>\n
LOCATION:802 S. Public Rd.
UID:e.1234.8147
SEQUENCE:3
DTSTAMP:20260425T104221Z
URL:http://lafayettecolorado.preview.gochambermaster.com/events/details/october-networking-mixer-deki-with-mici-s-handcrafted-italian-8147
END:VEVENT

END:VCALENDAR
