BEGIN:VCALENDAR
VERSION:2.0
PRODID:-//ChamberMaster//Event Calendar 2.0//EN
METHOD:PUBLISH
X-PUBLISHED-TTL:P3D
REFRESH-INTERVAL:P3D
CALSCALE:GREGORIAN
BEGIN:VEVENT
DTSTART:20220922T230000Z
DTEND:20220923T010000Z
X-MICROSOFT-CDO-ALLDAYEVENT:FALSE
SUMMARY:Networking Mixer @ Affordable Tree Services with Erie
DESCRIPTION:Networking Mixer @ Affordable Tree Service with the Erie Chamber\n\nThursday\, September 22\, 5-7 pm\n\n4340 N. 119th St.\, Lafayette\n\n\n\nChamber Members\, join the Erie and Lafayette Chambers along with Scott Johnson at Affordable Tree Service for a Business After Hours on Thursday September 22 from 5:00pm-7:00pm.\n\n Enjoy hot soup bar\,  beverages\, and socializing around the fire pit!\n\nAffordable Tree Service - RSVPs required by September 20th\n\n4340 N 119th St\, Lafayette\, Colorado. 80026
X-ALT-DESC;FMTTYPE=text/html:<p><strong>Networking Mixer @ Affordable Tree Service with the Erie Chamber<br />\nThursday\, September 22\, 5-7 pm<br />\n4340 N. 119th St.\, Lafayette</strong><br />\n<br />\nChamber Members\, join the Erie and Lafayette Chambers along with Scott Johnson at Affordable Tree Service for a Business After Hours on Thursday September 22 from 5:00pm-7:00pm.<br />\n&nbsp\;Enjoy hot soup bar\,&nbsp\; beverages\, and socializing around the fire pit!<br />\nAffordable Tree Service - RSVPs required by September 20th<br />\n4340 N 119th St\, Lafayette\, Colorado. 80026<br />\n&nbsp\;<br />\n&nbsp\;</p>\n
LOCATION:4340 N 119th St\, Lafayette
UID:e.1234.9054
SEQUENCE:3
DTSTAMP:20260424T184554Z
URL:http://lafayettecolorado.preview.gochambermaster.com/events/details/networking-mixer-affordable-tree-services-with-erie-9054
END:VEVENT

END:VCALENDAR
