BEGIN:VCALENDAR
VERSION:2.0
PRODID:-//ChamberMaster//Event Calendar 2.0//EN
METHOD:PUBLISH
X-PUBLISHED-TTL:P3D
REFRESH-INTERVAL:P3D
CALSCALE:GREGORIAN
BEGIN:VEVENT
DTSTART;VALUE=DATE:20241203
DTEND;VALUE=DATE:20241204
TRANSP:TRANSPARENT
X-MICROSOFT-CDO-ALLDAYEVENT:TRUE
SUMMARY:Nature Connection Practitioner Training
DESCRIPTION:Are you ready to weave your love of nature and your sense of the sacred into powerful and innovative work for your clients and communities?\n\n\n\n\nDo you feel a deep calling to create your own signature body of work that weaves your suite of skills and modalities with your own unique flavor of sacred nature connection?\n\nGet certified as a Wild Rhythms Practitioner while designing and launching your signature nature connection program sourced uniquely from your relationship with wild nature and the world of spirit!\n\n\n\n\nIf you are an educator\, counselor\, coach\, clergy member\, healer\, or other holistic practitioner interested in creating your signature body of work focusing on your client?s sacred connection to the wild natural world\, then the Wild Rhythms Practitioner training series is for you.\n \n\nThe Wild Rhythms Practitioner training series will show you how to guide your clients in deep\, sacred\, transformational\, and wildly personal nature connection work. You will be supported as you create your signature body of sacred nature connection work and explore advanced skills in Nature-based Spiritual Arts.
X-ALT-DESC;FMTTYPE=text/html:<div style="margin-left:0px\; margin-right:0px\; text-align:center">\n<div style="background:transparent\; border:0px\; padding:0px">Are you ready to weave your love of nature and your sense of the sacred into powerful and innovative work for your clients and communities?</div>\n</div>\n\n<div style="text-align:center">\n<div style="background:transparent\; border:0px\; padding:0px">\n<p>Do you feel a&nbsp\;<strong>deep calling to create your own signature body of work</strong>&nbsp\;that weaves your suite of skills and modalities with your own unique flavor of sacred nature connection?</p>\n\n<p>Get&nbsp\;<strong>certified as a Wild Rhythms Practitioner</strong>&nbsp\;while designing and launching your signature nature connection program sourced uniquely from your relationship with wild nature and the world of spirit!</p>\n</div>\n</div>\n\n<div>\n<div style="background:transparent\; border:0px\; padding:0px">If you are an educator\, counselor\, coach\, clergy member\, healer\, or other holistic practitioner interested in creating your signature body of work focusing on your client?s sacred connection to the wild natural world\, then the Wild Rhythms Practitioner training series is for you.\n<p>&nbsp\;</p>\n\n<p>The Wild Rhythms Practitioner training series will show you how to guide your clients in deep\, sacred\, transformational\, and wildly personal nature connection work. You will be supported as you create your signature body of sacred nature connection work and explore advanced skills in Nature-based Spiritual Arts.</p>\n</div>\n</div>\n
LOCATION:In wild nature near your home and online.
UID:e.1234.10534
SEQUENCE:3
DTSTAMP:20260420T211721Z
URL:http://lafayettecolorado.preview.gochambermaster.com/events/details/nature-connection-practitioner-training-12-03-2024-10534
END:VEVENT

END:VCALENDAR
