BEGIN:VCALENDAR
VERSION:2.0
PRODID:-//ChamberMaster//Event Calendar 2.0//EN
METHOD:PUBLISH
X-PUBLISHED-TTL:P3D
REFRESH-INTERVAL:P3D
CALSCALE:GREGORIAN
BEGIN:VEVENT
DTSTART;VALUE=DATE:20231108
DTEND;VALUE=DATE:20231109
TRANSP:TRANSPARENT
X-MICROSOFT-CDO-ALLDAYEVENT:TRUE
SUMMARY:Morning Speed Networking\, November 8\, 2023
DESCRIPTION:Morning Networking with a Kick!\n\nLimited to 25 attendees from each Chamber\n\nNovember 8\, 7:30-9:00\n\nConfluence\, 75 Waneka Parkway with the Erie Chamber\n\n\n\nCome join us for our Morning Networking with a Kick--kind of like speed dating! We will have 2 circles and each attendee gets one minute to give their elevator speech and then the circles rotate.  At the end of the event\, you will have met almost everyone in the room\, know about their business and they'll know about yours!\n\nCome with business cards and get ready to meet lots of people.\n\nContinental breakfast after the networking.
X-ALT-DESC;FMTTYPE=text/html:<p style="text-align: center\;"><span style="font-size:14px\;">Morning Networking with a Kick!</span></p>\n\n<p style="text-align: center\;"><span style="font-size:16px\;"><span style="color:#FF0000\;">Limited to 25 attendees from each Chamber</span></span></p>\n\n<p style="text-align: center\;"><span style="font-size:14px\;">November 8\, 7:30-9:00<br />\nConfluence\, 75 Waneka Parkway with the Erie Chamber</span></p>\n\n<p><br />\nCome join us for our Morning Networking with a Kick--kind of like speed dating! We will have 2 circles and each attendee gets one minute to give their elevator speech and then the circles rotate.&nbsp\; At the end of the event\, you will have met almost everyone in the room\, know about their business and they&#39\;ll know about yours!<br />\nCome with business cards and get ready to meet lots of people.<br />\nContinental breakfast after the networking.</p>\n
LOCATION:Confluence\, 75 Waneka Parkway\, one block west off Public Road and Waneka Pkwy. Parking is either on the street or church parking lot just to the west.
UID:e.1234.9844
SEQUENCE:3
DTSTAMP:20260423T024032Z
URL:http://lafayettecolorado.preview.gochambermaster.com/events/details/morning-speed-networking-november-8-2023-9844
END:VEVENT

END:VCALENDAR
