BEGIN:VCALENDAR
VERSION:2.0
PRODID:-//ChamberMaster//Event Calendar 2.0//EN
METHOD:PUBLISH
X-PUBLISHED-TTL:P3D
REFRESH-INTERVAL:P3D
CALSCALE:GREGORIAN
BEGIN:VEVENT
DTSTART:20220720T230000Z
DTEND:20220721T010000Z
X-MICROSOFT-CDO-ALLDAYEVENT:FALSE
SUMMARY:MEMBERSHIP APPRECIATION BBQ--2022
DESCRIPTION:MEMBERSHIP APPRECIATION BBQ\n\nWednesday\, July 20\, 5-7 pm\n\nWaneka Lake Park\, 1600 Caria Drive\n\n\n\nIt is time again for our Member Appreciation BBQ with the Superior\, Louisville\, and Erie Chambers. \n\n\n\nThis is our way to thank you for your continued support throughout the year AND you get to network with all the other Chambers!\n\nThere is no charge but this event is limited to CHAMBER MEMBERS ONLY!  \n\nAND YOU MUST RSVP by July 15.\n\n\n\nThe Member Appreciation BBQ is being sponsored by THE DAILY CAMERA & THE COLORADO HOMETOWN WEEKLY.
X-ALT-DESC;FMTTYPE=text/html:<div style="text-align: center\;"><span style="font-size:22px\;"><span style="color: rgb(75\, 0\, 130)\;"><strong>MEMBERSHIP APPRECIATION BBQ</strong></span></span></div>\n\n<div style="text-align: center\;"><span style="color:#000000\;"><span style="font-size:20px\;"><strong>Wednesday\, July 20\, 5-7 pm</strong></span></span></div>\n\n<div style="text-align: center\;"><span style="color:#000000\;"><span style="font-size:20px\;"><strong>Waneka Lake Park\, 1600 Caria Drive</strong></span></span></div>\n\n<p style="text-align: center\;"><br />\n<span style="color:#000000\;"><span style="font-size:16px\;"><span style="font-size:18px\;">It is time again for our Member Appreciation BBQ with the Superior\, Louisville\, and Erie Chambers.&nbsp\;<br />\n<br />\nThis is our way to thank you for your continued support throughout the year AND you get to network with all the other Chambers!</span><br />\n<span style="font-size:18px\;"><span style="font-family: palatino\;">There is no charge but this event is limited to CHAMBER MEMBERS ONLY!&nbsp\; </span></span></span></span><br />\n<span style="font-size:18px\;"><span style="color:#000000\;"><span style="font-family: palatino\;">AND YOU MUST RSVP by July 15.</span></span></span><br />\n<br />\n<span style="color:#000000\;"><span style="font-size:16px\;"><span style="font-size:18px\;">The Member Appreciation BBQ is being sponsored by<strong> THE DAILY CAMERA &amp\; THE COLORADO HOMETOWN WEEKLY.&nbsp\; </strong></span></span></span><br />\n&nbsp\;</p>\n
LOCATION:Waneka Lake Park 1600 Caria Drive\, Lafayette South Boulder Rd. to Centaur Village Drive\, left on Caria\, follow Caria to the west entrance of the lake.
UID:e.1234.8973
SEQUENCE:3
DTSTAMP:20260424T213556Z
URL:http://lafayettecolorado.preview.gochambermaster.com/events/details/membership-appreciation-bbq-2022-8973
END:VEVENT

END:VCALENDAR
