BEGIN:VCALENDAR
VERSION:2.0
PRODID:-//ChamberMaster//Event Calendar 2.0//EN
METHOD:PUBLISH
X-PUBLISHED-TTL:P3D
REFRESH-INTERVAL:P3D
CALSCALE:GREGORIAN
BEGIN:VEVENT
DTSTART:20240312T230000Z
DTEND:20240313T013000Z
X-MICROSOFT-CDO-ALLDAYEVENT:FALSE
SUMMARY:Meals on Heels: a Shoe Fashion Show
DESCRIPTION:We are so excited to be hosting this new event to raise funds and awareness for Coal Creek Meals on Wheels. All money raised will provide nutritious meals and social support for our neighbors in Lafayette\, Louisville\, Erie\, and Superior.\n\n\n\n\n\n\n\n\nMeals on Heels is a new event to raise funds and awareness for Coal Creek Meals on Wheels! The event will include complimentary appetizers and a cash bar from Acreage\, live music from Ultralofi\, and a silent auction with many amazing packages.\n\nEntertainment will be in the form of a shoe fashion show\, where community members can enter to show off their favorite shoes! Sign-up for the shoe fashion show will take place during event check-in. Attendees will be able to vote for their favorites in each category and the winners will be announced at the event and be invited to walk the runway!\n\nAll proceeds from the event will benefit CCMOW! The full cost of your ticket will be tax deductible.\n\nEVENT DETAILS\n\nDate: March 12\, 2023\n\nTime: 5:00-7:30 p.m. (registration/networking will begin at 5:00 p.m. with the event starting at 5:30 p.m.)\n\nLocation: Acreage by Stem Ciders\n\nSilent Auction: bidding will go live on March 5 and end at the conclusion of the event\n\nEarly bird ticket pricing will be available until February 16!
X-ALT-DESC;FMTTYPE=text/html:<div>\n<div>\n<div>\n<div>We are so excited to be hosting this new event to raise funds and awareness for Coal Creek Meals on Wheels. All money raised will provide nutritious meals and social support for our neighbors in Lafayette\, Louisville\, Erie\, and Superior.</div>\n</div>\n</div>\n</div>\n\n<div>\n<div>\n<div>\n<div>\n<p>Meals on Heels is a new event to raise funds and awareness for Coal Creek Meals on Wheels! The event will include complimentary appetizers and a cash bar from&nbsp\;<a href="https://acreageco.com/" rel="noreferrer noopener" style="box-sizing: border-box\; color: inherit\; text-decoration-line: none\; padding-bottom: 1px\; cursor: pointer\; font-weight: bold\;" target="_blank">Acreage</a>\, live music from&nbsp\;<a href="https://www.ultralowfi.com/" rel="noreferrer noopener" style="box-sizing: border-box\; color: inherit\; text-decoration-line: none\; padding-bottom: 1px\; cursor: pointer\; font-weight: bold\;" target="_blank">Ultralofi</a>\, and a silent auction with many amazing packages.</p>\n\n<p>Entertainment will be in the form of a shoe fashion show\, where community members can enter to show off their favorite shoes! Sign-up for the shoe fashion show will take place during event check-in. Attendees will be able to vote for their favorites in each category and the winners will be announced at the event and be invited to walk the runway!</p>\n\n<p>All proceeds from the event will benefit CCMOW! The full cost of your ticket will be tax deductible.</p>\n\n<p><strong>EVENT DETAILS</strong></p>\n\n<p><strong>Date:&nbsp\;</strong>March 12\, 2023<br />\n<strong>Time:&nbsp\;</strong>5:00-7:30 p.m. (registration/networking will begin at 5:00 p.m. with the event starting at 5:30 p.m.)<br />\n<strong>Location:&nbsp\;</strong>Acreage by Stem Ciders</p>\n\n<p><strong>Silent Auction:&nbsp\;</strong>bidding will go live on March 5 and end at the conclusion of the event</p>\n\n<p><strong><em>Early bird ticket pricing will be available until February 16!</em></strong></p>\n</div>\n</div>\n</div>\n</div>\n
LOCATION:Acreage by Stem Ciders 1380 Horizon Ave Lafayette\, CO 80026
UID:e.1234.10496
SEQUENCE:3
DTSTAMP:20260422T103035Z
URL:http://lafayettecolorado.preview.gochambermaster.com/events/details/meals-on-heels-a-shoe-fashion-show-10496
END:VEVENT

END:VCALENDAR
