BEGIN:VCALENDAR
VERSION:2.0
PRODID:-//ChamberMaster//Event Calendar 2.0//EN
METHOD:PUBLISH
X-PUBLISHED-TTL:P3D
REFRESH-INTERVAL:P3D
CALSCALE:GREGORIAN
BEGIN:VEVENT
DTSTART:20250522T230000Z
DTEND:20250523T010000Z
X-MICROSOFT-CDO-ALLDAYEVENT:FALSE
SUMMARY:May Networking Mixer @ Scissors & Scotch
DESCRIPTION:Joint Networking Mixer with the Erie Chamber at Scissors & Scotch\n\n  Scissors & Scotch\, 680 Mitchell Way unit 140\, Erie\, CO 80516\n\n  May 22nd | 5pm - 7pm\n\nJoin us for a stylish evening of networking\, collaboration\, and celebration as the Lafayette and Erie Chambers come together for a joint mixer at Scissors & Scotch!\n\nEnjoy a relaxed and modern atmosphere while connecting with fellow professionals\, business owners\, and community members. Whether you're looking to grow your network\, explore new partnerships\, or just unwind after a long day   this is the place to be.\n\nWhat to Expect:\n\n  Great conversations\n\n  Light Refreshments\n\n  A tour of Scissors & Scotch's unique space\n\n  A welcoming mix of Chamber and non-Chamber members\n\nLet's raise a glass to building strong local business connections. We can't wait to see you there!
X-ALT-DESC;FMTTYPE=text/html:<p data-end="235" data-start="93"><span style="font-family:arial\;"><strong data-end="162" data-start="93">Joint Networking Mixer with the Erie Chamber at Scissors &amp\; Scotch</strong><br data-end="165" data-start="162" />\n<strong data-end="200" data-start="165">&#128205\; Scissors &amp\; Scotch\,&nbsp\;</strong><strong><span style="font-size: 14px\;">680 Mitchell Way unit 140\, Erie\, CO 80516</span></strong><br data-end="203" data-start="200" />\n<strong data-end="235" data-start="203">&#128197\; May 22nd | 5pm - 7pm</strong></span></p>\n\n<p data-end="407" data-start="237"><span style="font-family:arial\;">Join us for a stylish evening of networking\, collaboration\, and celebration as the Lafayette and Erie Chambers come together for a joint mixer at <strong data-end="404" data-start="383">Scissors &amp\; Scotch</strong>!</span></p>\n\n<p data-end="683" data-start="409"><span style="font-family:arial\;">Enjoy a relaxed and modern atmosphere while connecting with fellow professionals\, business owners\, and community members. Whether you&#39\;re looking to grow your network\, explore new partnerships\, or just unwind after a long day &mdash\; this is the place to be.</span></p>\n\n<p data-end="860" data-start="685"><span style="font-family:arial\;"><strong data-end="704" data-start="685">What to Expect:</strong><br data-end="707" data-start="704" />\n&#10024\; Great conversations<br data-end="731" data-start="728" />\n&#129347\; Light Refreshments<br data-end="757" data-start="754" />\n&#128136\; A tour of Scissors &amp\; Scotch&#39\;s unique space<br data-end="805" data-start="802" />\n&#129309\; A welcoming mix of Chamber and non-Chamber members</span></p>\n\n<p data-end="960" data-start="862"><span style="font-family:arial\;">Let&rsquo\;s raise a glass to building strong local business connections. We can&rsquo\;t wait to see you there!</span></p>\n
LOCATION:
UID:e.1234.11326
SEQUENCE:3
DTSTAMP:20260420T070234Z
URL:http://lafayettecolorado.preview.gochambermaster.com/events/details/may-networking-mixer-scissors-scotch-11326
END:VEVENT

END:VCALENDAR
