BEGIN:VCALENDAR
VERSION:2.0
PRODID:-//ChamberMaster//Event Calendar 2.0//EN
METHOD:PUBLISH
X-PUBLISHED-TTL:P3D
REFRESH-INTERVAL:P3D
CALSCALE:GREGORIAN
BEGIN:VEVENT
DTSTART:20220324T230000Z
DTEND:20220325T010000Z
X-MICROSOFT-CDO-ALLDAYEVENT:FALSE
SUMMARY:March Multi-Chamber Networking Mixer @ Colorado Music Festival & Center for Musical Arts!
DESCRIPTION:Multi-Chamber Networking Mixer Colorado Music Festival and Center for Musical Arts-\n\nMarch 24th\n\nRSVP by March 21st\nJoin us to mix and mingle with friends from the Superior\, Erie and Louisville Chambers.  Enjoy appetizers\, drinks\, networking and an opportunity to learn more about CMF/CMA!
X-ALT-DESC;FMTTYPE=text/html:<div style="text-align: center\;"><strong>Multi-Chamber Networking Mixer Colorado Music Festival and Center for Musical Arts-<br />\nMarch 24th<br />\nRSVP by March 21st</strong></div>\n<span style="color: rgb(51\, 51\, 51)\; font-family: sans-serif\, Arial\, Verdana\, ">Join us to mix and mingle with friends from the Superior\, Erie and Louisville Chambers.&nbsp\; Enjoy appetizers\, drinks\, networking and an opportunity to learn more about CMF/CMA!</span>
LOCATION:200 E. Baseline Rd.
UID:e.1234.8159
SEQUENCE:3
DTSTAMP:20260425T014510Z
URL:http://lafayettecolorado.preview.gochambermaster.com/events/details/march-multi-chamber-networking-mixer-colorado-music-festival-center-for-musical-arts-8159
END:VEVENT

END:VCALENDAR
