BEGIN:VCALENDAR
VERSION:2.0
PRODID:-//ChamberMaster//Event Calendar 2.0//EN
METHOD:PUBLISH
X-PUBLISHED-TTL:P3D
REFRESH-INTERVAL:P3D
CALSCALE:GREGORIAN
BEGIN:VEVENT
DTSTART:20251112T000000Z
DTEND:20251112T010000Z
X-MICROSOFT-CDO-ALLDAYEVENT:FALSE
SUMMARY:Lafayette Integrative Healing Alliance
DESCRIPTION:Join the Lafayette Integrative Healing Alliance\, a dynamic networking forum for complementary and alternative medical providers which foster collaboration\, share innovative healing practices\, and build a supportive community of holistic healthcare professionals. Whether you're a physician\, physical therapist\, massage therapist\, or practitioner of alternative modalities\, this is your opportunity to connect\, learn\, and expand your professional network. Let's strengthen the healthcare community in Lafayette.
X-ALT-DESC;FMTTYPE=text/html:Join the Lafayette Integrative Healing Alliance\, a dynamic networking forum for complementary and alternative medical providers which foster collaboration\, share innovative healing practices\, and build a supportive community of holistic healthcare professionals. Whether you&#39\;re a physician\, physical therapist\, massage therapist\, or practitioner of alternative modalities\, this is your opportunity to connect\, learn\, and expand your professional network. Let&rsquo\;s strengthen the healthcare community in Lafayette.
LOCATION:Lafayette Chamber of Commerce - 304 W. Baseline Rd
UID:e.1234.11383
SEQUENCE:3
DTSTAMP:20260420T070847Z
URL:http://lafayettecolorado.preview.gochambermaster.com/events/details/lafayette-integrative-healing-alliance-11-11-2025-11383
END:VEVENT

END:VCALENDAR
