BEGIN:VCALENDAR
VERSION:2.0
PRODID:-//ChamberMaster//Event Calendar 2.0//EN
METHOD:PUBLISH
X-PUBLISHED-TTL:P3D
REFRESH-INTERVAL:P3D
CALSCALE:GREGORIAN
BEGIN:VEVENT
DTSTART:20230118T000000Z
DTEND:20230118T020000Z
X-MICROSOFT-CDO-ALLDAYEVENT:FALSE
SUMMARY:January Networking Mixer @ Huntington Bank
DESCRIPTION:Networking Mixer @ Huntington Bank\n\nTuesday\,January 17\, 5-7 pm\n\n320 N. Hwy\, 287\n\nJoin us to welcome Huntington Bank to Lafayette and mix and mingle with new friends!
X-ALT-DESC;FMTTYPE=text/html:<span style="font-size:14px\;"><strong>Networking Mixer @ Huntington Bank<br />\nTuesday\,January 17\, 5-7 pm</strong><br />\n320 N. Hwy\, 287<br />\nJoin us to welcome Huntington Bank to Lafayette and mix and mingle with new friends!</span><br />\n&nbsp\;
LOCATION:320 N. Hwy\, 287
UID:e.1234.9077
SEQUENCE:3
DTSTAMP:20260424T085641Z
URL:http://lafayettecolorado.preview.gochambermaster.com/events/details/january-networking-mixer-huntington-bank-9077
END:VEVENT

END:VCALENDAR
