BEGIN:VCALENDAR
VERSION:2.0
PRODID:-//ChamberMaster//Event Calendar 2.0//EN
METHOD:PUBLISH
X-PUBLISHED-TTL:P3D
REFRESH-INTERVAL:P3D
CALSCALE:GREGORIAN
BEGIN:VEVENT
DTSTART:20250704T004500Z
DTEND:20250704T020000Z
X-MICROSOFT-CDO-ALLDAYEVENT:FALSE
SUMMARY:Insight & Eyesight ~ Empathy & Vision's Impact On Wellness
DESCRIPTION:Want to improve your empathic skills AND learn how to improve vision? \n\nCome have fun with us at this monthly themed social\n\nhosted by The Community Wellness Network & Dr. Brandy Victory. \n\nWine will be served and you are sure to connect with others in our community.\n\n*Honoring Healthy Vision Awareness month.
X-ALT-DESC;FMTTYPE=text/html:<font color="#080809"><span style="font-size:15px">Want to improve your empathic skills AND learn how to improve vision? </span></font><br />\n<font color="#080809"><span style="font-size:15px">Come have fun with us at this monthly themed social<br />\nhosted by The </span><span style="caret-color:rgb(8\, 8\, 9)\; font-size:15px">Community</span><span style="font-size:15px">&nbsp\;Wellness Network &amp\; Dr. Brandy Victory.&nbsp\;</span></font><br />\n<span style="color:rgb(8\, 8\, 9)\; font-family:system-ui\,-apple-system\,blinkmacsystemfont\,.sfnstext-regular\,sans-serif\; font-size:15px">Wine will be served and you are sure to connect with others in our community.<br />\n<em>*Honoring Healthy Vision Awareness month.</em></span>
LOCATION:
UID:e.1234.11385
SEQUENCE:3
DTSTAMP:20260420T052120Z
URL:http://lafayettecolorado.preview.gochambermaster.com/events/details/insight-eyesight-empathy-vision-s-impact-on-wellness-11385
END:VEVENT

END:VCALENDAR
