BEGIN:VCALENDAR
VERSION:2.0
PRODID:-//ChamberMaster//Event Calendar 2.0//EN
METHOD:PUBLISH
X-PUBLISHED-TTL:P3D
REFRESH-INTERVAL:P3D
CALSCALE:GREGORIAN
BEGIN:VEVENT
DTSTART:20240913T220000Z
DTEND:20240914T020000Z
X-MICROSOFT-CDO-ALLDAYEVENT:FALSE
SUMMARY:Emerge Cocktail Party
DESCRIPTION:Emerge Radiant's Cocktail Party!\n\nMark your calendars for an evening of fun and elegance at Emerge Radiant's Cocktail Party\, happening on Friday\, September 13th from 4:00 to 8:00 pm right here in Lafayette!\n\nEnjoy delectable bites and refreshing beverages while mingling with friends\, old and new. Plus\, don't miss the chance to win incredible prizes in our exciting raffles!\n\nThis is the perfect way to kick off your weekend don't miss out on the fun!
X-ALT-DESC;FMTTYPE=text/html:<p><strong>Emerge Radiant&#39\;s Cocktail Party!</strong></p>\n\n<p>Mark your calendars for an evening of fun and elegance at Emerge Radiant&#39\;s Cocktail Party\, happening on <strong>Friday\, September 13th</strong> from <strong>4:00 to 8:00 pm</strong> right here in <strong>Lafayette</strong>!</p>\n\n<p>Enjoy delectable bites and refreshing beverages while mingling with friends\, old and new. Plus\, don&#39\;t miss the chance to win incredible prizes in our exciting raffles!</p>\n\n<p>This is the perfect way to kick off your weekend&mdash\;don&#39\;t miss out on the fun!</p>\n
LOCATION:806 S Public Rd Suite 202 Lafayette\, CO 80026
UID:e.1234.10663
SEQUENCE:3
DTSTAMP:20260421T044500Z
URL:http://lafayettecolorado.preview.gochambermaster.com/events/details/emerge-cocktail-party-10663
END:VEVENT

END:VCALENDAR
