BEGIN:VCALENDAR
VERSION:2.0
PRODID:-//ChamberMaster//Event Calendar 2.0//EN
METHOD:PUBLISH
X-PUBLISHED-TTL:P3D
REFRESH-INTERVAL:P3D
CALSCALE:GREGORIAN
BEGIN:VEVENT
DTSTART:20240422T140000Z
DTEND:20240422T230000Z
X-MICROSOFT-CDO-ALLDAYEVENT:FALSE
SUMMARY:Confluence Free Coworking Day - Earth Day
DESCRIPTION:Are you tired of working out of coffee shops and libraries? Need to switch it up from your home office to a more professional setting? Spouse/kids/animals driving you up a wall when you're trying to work? This is the perfect opportunity to give coworking a try at Confluence during our free-drop in days.\n\n \n\nThis Earth Day\, join us for a full day of productive work\, free beverages\, special treats\, and a recycling workshop\; all for free!
X-ALT-DESC;FMTTYPE=text/html:<div>Are you tired of working out of coffee shops and libraries? Need to switch it up from your home office to a more professional setting? Spouse/kids/animals driving you up a wall when you&#39\;re trying to work? This is the perfect opportunity to give coworking a try at Confluence during our free-drop in days.</div>\n\n<div>&nbsp\;</div>\n\n<div>This Earth Day\, join us for a full day of productive work\, free beverages\, special treats\, and a recycling workshop\; all for free!</div>\n\n<div>&nbsp\;</div>\n
LOCATION:Confluence Small Business Collective 75 Waneka Parkway Lafayette\, CO 80026
UID:e.1234.10597
SEQUENCE:3
DTSTAMP:20260422T074136Z
URL:http://lafayettecolorado.preview.gochambermaster.com/events/details/confluence-free-coworking-day-earth-day-10597
END:VEVENT

END:VCALENDAR
