BEGIN:VCALENDAR
VERSION:2.0
PRODID:-//ChamberMaster//Event Calendar 2.0//EN
METHOD:PUBLISH
X-PUBLISHED-TTL:P3D
REFRESH-INTERVAL:P3D
CALSCALE:GREGORIAN
BEGIN:VEVENT
DTSTART:20250507T161500Z
DTEND:20250507T170000Z
X-MICROSOFT-CDO-ALLDAYEVENT:FALSE
SUMMARY:Coffee with Inclusion
DESCRIPTION:Joined event with Neurodiversity Community Center and Inclusion on Purpose.  Neurodiversity encompasses a broad range of both typical and "atypical" brain functioning. Join us for inclusive conversation on topics of neurodivergence\, community\, friendship\, and identity.
X-ALT-DESC;FMTTYPE=text/html:<span style="color:rgb(0\, 0\, 0)\; font-family:avenir-lt-w01_35-light1475496\,sans-serif\; font-size:16px">Joined event with Neurodiversity Community Center and Inclusion on Purpose.&nbsp\; Neurodiversity encompasses a broad range of both typical and &quot\;atypical&quot\; brain functioning. Join us for inclusive conversation on topics of neurodivergence\, community\, friendship\, and identity.&nbsp\;</span>
LOCATION:Neurodiversity Community Center: 100 W Cleveland St\, Lafayette\, CO 80026
UID:e.1234.10825
SEQUENCE:3
DTSTAMP:20260420T070710Z
URL:http://lafayettecolorado.preview.gochambermaster.com/events/details/coffee-with-inclusion-05-07-2025-10825
END:VEVENT

END:VCALENDAR
