BEGIN:VCALENDAR
VERSION:2.0
PRODID:-//ChamberMaster//Event Calendar 2.0//EN
METHOD:PUBLISH
X-PUBLISHED-TTL:P3D
REFRESH-INTERVAL:P3D
CALSCALE:GREGORIAN
BEGIN:VEVENT
DTSTART:20240611T000000Z
DTEND:20240611T030000Z
X-MICROSOFT-CDO-ALLDAYEVENT:FALSE
SUMMARY:Coal Creek Meals on Wheels Game Show Night
DESCRIPTION:Join us for a Game Show Night Fundraiser!\n\nCoal Creek Meals on Wheels is hosting a Game Show Night! Join us for an evening of fun and games while supporting your neighbors in need!\n\nRion Evans will be joining us to host fan favorite game shows like Family Feud\, Wheel of Fortune\, and more! Guests will be invited up on stage to play each game while members of the audience can play along from their seats. The game show portion of the event will begin at 6:30 p.m.\n\nTilt Pinball will be open during the event for guests to play arcade games with purchased tokens. A cash bar will also be available at the venue. Food will be available for purchase from Put A Fork In It by Verde.\n\nAll proceeds from the event will benefit CCMOW! The full cost of your ticket will be tax deductible.\n\n\n\nGet Tickets Now
X-ALT-DESC;FMTTYPE=text/html:<p><span style="font-size:24px"><strong>Join us for a Game Show Night Fundraiser!</strong></span></p>\n\n<p>Coal Creek Meals on Wheels is hosting a Game Show Night! Join us for an evening of fun and games while supporting your neighbors in need!</p>\n\n<p><a href="https://www.rionevans.com/gameshow.html?_gl=1*1ohjkhx*_gcl_aw*R0NMLjE3MTI2ODU1MDIuQ2owS0NRand6dE93QmhEN0FSSXNBUERLbmtCS01nM0FrSDE1cWx3TWxSMWlzTUx5WTFObjkyNWh2NG5NY2ZLSEpWOFBmZEkwdGRKZEx3TWFBdTNPRUFMd193Y0I.*_gcl_au*NTY4NjIyNTYwLjE3MTIyNTAyOTg" target="_blank">Rion Evans</a>&nbsp\;will be joining us to host fan favorite game shows like Family Feud\, Wheel of Fortune\, and more! Guests will be invited up on stage to play each game while members of the audience can play along from their seats.&nbsp\;<strong>The game show portion of the event will begin at 6:30 p.m.</strong></p>\n\n<p><a href="https://www.tiltcolorado.com/?_gl=1*1ku1a1*_gcl_aw*R0NMLjE3MTI2ODU1MDIuQ2owS0NRand6dE93QmhEN0FSSXNBUERLbmtCS01nM0FrSDE1cWx3TWxSMWlzTUx5WTFObjkyNWh2NG5NY2ZLSEpWOFBmZEkwdGRKZEx3TWFBdTNPRUFMd193Y0I.*_gcl_au*NTY4NjIyNTYwLjE3MTIyNTAyOTg." target="_blank">Tilt Pinball</a>&nbsp\;will be open during the event for guests to play arcade games with purchased tokens. A cash bar will also be available at the venue. Food will be available for purchase from&nbsp\;<em>Put A Fork In It by Verde.</em></p>\n\n<p><strong>All proceeds from the event will benefit CCMOW! The full cost of your ticket will be tax deductible.<br />\n<br />\n<a href="https://t2m.io/game-show-night24" target="_blank">Get Tickets Now</a></strong></p>\n
LOCATION:The Louisville Underground 640 Main St\, Louisville\, CO 80027
UID:e.1234.10601
SEQUENCE:3
DTSTAMP:20260421T204520Z
URL:http://lafayettecolorado.preview.gochambermaster.com/events/details/coal-creek-meals-on-wheels-game-show-night-06-10-2024-10601
END:VEVENT

END:VCALENDAR
