BEGIN:VCALENDAR
VERSION:2.0
PRODID:-//ChamberMaster//Event Calendar 2.0//EN
METHOD:PUBLISH
X-PUBLISHED-TTL:P3D
REFRESH-INTERVAL:P3D
CALSCALE:GREGORIAN
BEGIN:VEVENT
DTSTART:20210714T210000Z
DTEND:20210715T030000Z
X-MICROSOFT-CDO-ALLDAYEVENT:FALSE
SUMMARY:BV Builders Presents -Dine-to-Donate Lafayette!
DESCRIPTION:Dine-to-Donate!\n\nAll proceeds will benefit the Wow! Children's Museum and Rise Against Suicide.
X-ALT-DESC;FMTTYPE=text/html:Dine-to-Donate!<br />\nAll proceeds will benefit the Wow! Children&#39\;s Museum and Rise Against Suicide.
LOCATION:Community Restaurant 206 S. Public Rd.\, Lafayette
UID:e.1234.8110
SEQUENCE:3
DTSTAMP:20260425T194534Z
URL:http://lafayettecolorado.preview.gochambermaster.com/events/details/bv-builders-presents-dine-to-donate-lafayette-8110
END:VEVENT

END:VCALENDAR
