BEGIN:VCALENDAR
VERSION:2.0
PRODID:-//ChamberMaster//Event Calendar 2.0//EN
METHOD:PUBLISH
X-PUBLISHED-TTL:P3D
REFRESH-INTERVAL:P3D
CALSCALE:GREGORIAN
BEGIN:VEVENT
DTSTART:20220625T220000Z
DTEND:20220626T040000Z
X-MICROSOFT-CDO-ALLDAYEVENT:FALSE
SUMMARY:Brews For Booms at Liquid Mechanics!
DESCRIPTION:SATURDAY\, JUNE 25\, 2022 \n\n4 PM   10 PM\n\n\n\nBrews For Booms\n\n\nLiquid Mechanics Brewing Company\n\n \n\n\n\nDid you know the Lafayette\, CO fireworks display is funded 100% by donations? We love our town and the feeling of community and comradery that comes with watching those fireworks over Waneka Lake. While we had to skip a couple of years Brews For Booms is BACK!!! So we're gonna raise some money. We are closing off our north parking lot for outdoor bands\, food truck\, games\, and beer drinking. \n\n\n\nHow can you help you ask? We will have a $5 suggested donation box at the main bar (donation is not required to get into the event). 100% of those donations will go to funding the firework show. In addition\, we are donating 10% of every beer sold!
X-ALT-DESC;FMTTYPE=text/html:<div class="rq0escxv l9j0dhe7 du4w35lb j83agx80 cbu4d94t d2edcug0 hpfvmrgz rj1gh0hx buofh1pr g5gj957u dflh9lhu scb9dxdr sj5x9vvc cxgpxx05">\n<div>\n<div class="j83agx80 cbu4d94t obtkqiv7 sv5sfqaa">\n<div class="bi6gxh9e aov4n071">\n<h2 class="gmql0nx0 l94mrbxd p1ri9a11 lzcic4wl d2edcug0 hpfvmrgz" dir="auto" tabindex="-1"><span class="d2edcug0 hpfvmrgz qv66sw1b c1et5uql lr9zc1uh a8c37x1j fe6kdd0r mau55g9w c8b282yb keod5gw0 nxhoafnm aigsh9s9 d3f4x2em iv3no6db jq4qci2q a3bd9o3v hnhda86s jdix4yx3 hzawbc8m" dir="auto">SATURDAY\, JUNE 25\, 2022&nbsp\;<br />\n4 PM &ndash\; 10 PM</span></h2>\n</div>\n\n<div class="bi6gxh9e aov4n071">\n<h2 class="gmql0nx0 l94mrbxd p1ri9a11 lzcic4wl d2edcug0 hpfvmrgz" dir="auto"><span class="d2edcug0 hpfvmrgz qv66sw1b c1et5uql lr9zc1uh a8c37x1j fe6kdd0r mau55g9w c8b282yb keod5gw0 nxhoafnm aigsh9s9 embtmqzv teo7jy3c m6dqt4wy h7mekvxk hnhda86s oo9gr5id hzawbc8m" dir="auto"><span class="a8c37x1j ni8dbmo4 stjgntxs l9j0dhe7 pby63qed" style="-moz-box-orient: vertical\; -webkit-line-clamp: 2\; display: -webkit-box\;"><span>Brews For Booms</span></span></span></h2>\n</div>\n\n<div class="bi6gxh9e aov4n071"><span class="d2edcug0 hpfvmrgz qv66sw1b c1et5uql lr9zc1uh a8c37x1j fe6kdd0r mau55g9w c8b282yb keod5gw0 nxhoafnm aigsh9s9 d3f4x2em iv3no6db a5q79mjw g1cxx5fr b1v8xokw m9osqain hzawbc8m" dir="auto"><span class="a8c37x1j ni8dbmo4 stjgntxs l9j0dhe7 ltmttdrg g0qnabr5 ojkyduve">Liquid Mechanics Brewing Company</span></span><br />\n&nbsp\;</div>\n</div>\n</div>\n</div>\n<span class="d2edcug0 hpfvmrgz qv66sw1b c1et5uql lr9zc1uh a8c37x1j fe6kdd0r mau55g9w c8b282yb keod5gw0 nxhoafnm aigsh9s9 d3f4x2em iv3no6db jq4qci2q a3bd9o3v b1v8xokw oo9gr5id" dir="auto">Did you know the Lafayette\, CO fireworks display is funded 100% by donations? We love our town and the feeling of community and comradery that comes with watching those fireworks over Waneka Lake. While we had to skip a couple of years Brews For Booms is BACK!!! So we&#39\;re gonna raise some money. We are closing off our north parking lot for outdoor bands\, food truck\, games\, and beer drinking. </span><br />\n<br />\n<span class="d2edcug0 hpfvmrgz qv66sw1b c1et5uql lr9zc1uh a8c37x1j fe6kdd0r mau55g9w c8b282yb keod5gw0 nxhoafnm aigsh9s9 d3f4x2em iv3no6db jq4qci2q a3bd9o3v b1v8xokw oo9gr5id" dir="auto">How can you help you ask? We will have a $5 suggested donation box at the main bar (donation is not required to get into the event). 100% of those donations will go to funding the firework show. In addition\, we are donating 10% of every beer sold!</span>
LOCATION:Liquid Mechanics Brewing Company 297 N. Hwy 287 Lafayette\, CO 80026
UID:e.1234.9046
SEQUENCE:3
DTSTAMP:20260424T214624Z
URL:http://lafayettecolorado.preview.gochambermaster.com/events/details/brews-for-booms-at-liquid-mechanics-9046
END:VEVENT

END:VCALENDAR
