BEGIN:VCALENDAR
VERSION:2.0
PRODID:-//ChamberMaster//Event Calendar 2.0//EN
METHOD:PUBLISH
X-PUBLISHED-TTL:P3D
REFRESH-INTERVAL:P3D
CALSCALE:GREGORIAN
BEGIN:VEVENT
DTSTART:20230918T150000Z
DTEND:20230918T210000Z
X-MICROSOFT-CDO-ALLDAYEVENT:FALSE
SUMMARY:43rd Annual Black Diamond Open--September 18
DESCRIPTION:PLEASE JOIN US FOR THE\n\nLafayette Chamber's 43rd Annual Black Diamond Open\n\nMonday\, September 18\, 2023\n\nLake Valley Golf Club\n\n4400 Lake Valley Dr.\, Longmont CO  80503\n\n\n\n9:00 am shotgun start - 4 person scramble/$125 per player\n\nCheck in starts at 8:00 am\n\nDeadline to register is September 11\n\nREGISTER HERE\n\nNow is your chance to play one of the best private courses along the Front Range as our 43rd Annual Black Diamond Open will be at the beautiful Lake Valley Golf Club and we?re excited! You can register as a single\, twosome or foursome and have the opportunity to connect with golfers from a variety of industries and compete to win fun prizes.\n\n$125 per golfer includes:\n\n18 holes of golf and cart\n\nContinental Breakfast/Coffee\n\nLunch\n\nTeam Prizes?Men\, Women\, Mixed\n\nRaffle Prizes\n\nPutting Contest\n\n\n\nGet your name seen...be a sponsor\, donate a door prize or items for our golfers? goodie bags.\n\nLogo and name on banners\, player handouts\, website and Facebook posts and at the course!\n\nMajor Sponsor                             $500\n\nIncludes Hole & Cart Sponsorship\, name on Sponsor banner\,\n\npresence on Hole in One.\n\nHole Sponsor                                 $125\n\nSignage on Hole\n\nCart Sponsor                                 $ 50\n\nSignage on Cart\n\nBeverage Cart Sponsor             $250\n\nYour name seen on 2 beverage carts\n\n\n\nTHANKS TO OUR SPONSORS\n\nBV BUILDERS\n\nBEACON RETIREMENT PLANNING GROUP\n\nBLUE FEDERAL CREDIT UNION\n\nBLUEBIRD WINDOWS AND DOORS\n\nIGADI\n\nLAFAYETTE FLORIST\n\nRENEWAL BY ANDERSEN\n\nMR. HANDYMAN\n\nHERBAL WELLNESS\n\nAMERITECH WINDOWS\n\nLEAFFILTER\n\nCOMPLETE CARE CHIROPRACTIC\n\nJAX FARM & RANCH/OUTDOOR GEAR\n\nPASSANANTE'S HOME FOOD SERVICES\n\nSTAN'S AUTOMOTIVE\n\nSCL HEALTH/INTERMOUNTAIN HEALTHCARE\n\nMCDONALD'S CARPET ONE\n\nMORRELL PRINTING SERVICES\n\nLIFE DENTISTRY\n\nDAILY CAMERA/COLORADO HOMETOWN WEEKLY\n\nNESHEIM'S CLEANING SERVICES
X-ALT-DESC;FMTTYPE=text/html:<p style="text-align: center\;"><span style="font-size:14px\;"><strong><span style="font-size:18px\;">PLEASE JOIN US FOR THE<br>\n<span style="font-size:20px\;"><span style="color:#FF0000\;">Lafayette Chamber's 43rd Annual Black Diamond Open</span></span><br>\nMonday\, September 18\, 2023<br>\nLake Valley Golf Club</span></strong></span><br>\n<span style="font-size:12.0pt\;"><strong>4400 Lake Valley Dr.\, Longmont CO&nbsp\; 80503</strong></span><br>\n<br>\n<span style="font-size:14px\;"><strong><span style="font-size:16px\;">9:00 am shotgun start - 4 person scramble/$125 per player</span></strong></span><br>\n<span style="font-size:20px\;">Check in starts at 8:00 am</span><br>\n<span style="font-size:16px\;"><strong><span style="font-family:times new roman\;">Deadline to register is September 11</span></strong></span></p>\n\n<p style="text-align: center\;"><a href="https://www.golfgenius.com/pages/9143985636183665009" target="_blank"><span style="language:en-US\;"><span style="font-family:times new roman\;"><span style="font-size:12.0pt\;"><span style="font-size:22px\;">REGISTER HERE</span></span></span></span></a></p>\n\n<p style="text-align: center\;"><span style="font-size:16px\;"><span style="font-family:times new roman\;">Now is your chance to play one of the best private courses along the Front Range as our 43rd Annual Black Diamond Open will be at the beautiful Lake Valley Golf Club and we?re excited! You can register as a single\, twosome or foursome and have the opportunity to connect with golfers from a variety of industries and compete to win fun prizes.</span></span></p>\n\n<p style="text-align: center\;"><span style="font-size:18px\;"><span style="font-family:times new roman\;"><span style="font-size:20px\;"><strong>$125 per golfer includes:</strong></span><br>\n18 holes of golf and cart<br>\nContinental Breakfast/Coffee<br>\nLunch<br>\nTeam Prizes?Men\, Women\, Mixed<br>\nRaffle Prizes<br>\nPutting Contest</span></span><br>\n<br>\n<span style="font-size:16px\;"><span style="font-style:italic\;language:en-US\;"><span style="font-family:times new roman\;">Get your name seen...be a sponsor\, donate a door prize or items for our golfers? goodie bags.<br>\nLogo and name on banners\, player handouts\, website and Facebook posts and at the course!</span></span></span></p>\n\n<p style="text-align: center\;"><span style="font-weight:bold\;language:en-US\;"><span style="font-family:times new roman\;"><span style="font-size:14.0pt\;">Major Sponsor</span></span></span>&nbsp\;&nbsp\;&nbsp\;&nbsp\;&nbsp\;&nbsp\;&nbsp\;&nbsp\;&nbsp\;&nbsp\;&nbsp\;&nbsp\;&nbsp\;&nbsp\;&nbsp\;&nbsp\;&nbsp\;&nbsp\;&nbsp\;&nbsp\;&nbsp\;&nbsp\;&nbsp\;&nbsp\;&nbsp\;&nbsp\;&nbsp\;&nbsp\; <span style="font-weight:bold\;language:en-US\;"><span style="font-family:times new roman\;"><span style="font-size:14.0pt\;">$500</span></span></span><br>\n<span style="font-style:italic\;language:en-US\;"><span style="font-family:times new roman\;"><span style="font-size:12.0pt\;">Includes Hole &amp\; Cart Sponsorship\, name on Sponsor banner\,<br>\npresence on Hole in One.</span></span></span><br>\n<span style="font-weight:bold\;language:en-US\;"><span style="font-family:times new roman\;"><span style="font-size:14.0pt\;">Hole Sponsor</span></span></span>&nbsp\;&nbsp\;&nbsp\;&nbsp\;&nbsp\;&nbsp\;&nbsp\;&nbsp\;&nbsp\;&nbsp\;&nbsp\;&nbsp\;&nbsp\;&nbsp\;&nbsp\;&nbsp\;&nbsp\;&nbsp\;&nbsp\;&nbsp\;&nbsp\;&nbsp\;&nbsp\;&nbsp\;&nbsp\;&nbsp\;&nbsp\;&nbsp\;&nbsp\;&nbsp\; &nbsp\; <span style="font-weight:bold\;language:en-US\;"><span style="font-family:times new roman\;"><span style="font-size:14.0pt\;">$125</span></span></span><br>\n<span style="font-style:italic\;language:en-US\;"><span style="font-family:times new roman\;"><span style="font-size:12.0pt\;">Signage on Hole</span></span></span><br>\n<span style="font-weight:bold\;language:en-US\;"><span style="font-family:times new roman\;"><span style="font-size:14.0pt\;">Cart Sponsor</span></span></span>&nbsp\;&nbsp\;&nbsp\;&nbsp\;&nbsp\;&nbsp\;&nbsp\;&nbsp\;&nbsp\;&nbsp\;&nbsp\;&nbsp\;&nbsp\;&nbsp\;&nbsp\;&nbsp\;&nbsp\;&nbsp\;&nbsp\;&nbsp\;&nbsp\;&nbsp\;&nbsp\;&nbsp\;&nbsp\;&nbsp\;&nbsp\;&nbsp\;&nbsp\;&nbsp\;&nbsp\;&nbsp\; <span style="font-weight:bold\;language:en-US\;"><span style="font-family:times new roman\;"><span style="font-size:14.0pt\;">$ 50</span></span></span><br>\n<span style="font-style:italic\;language:en-US\;"><span style="font-family:times new roman\;"><span style="font-size:12.0pt\;">Signage on Cart</span></span></span><br>\n<span style="font-weight:bold\;language:en-US\;"><span style="font-family:times new roman\;"><span style="font-size:14.0pt\;">Beverage Cart Sponsor</span></span></span>&nbsp\;&nbsp\;&nbsp\;&nbsp\;&nbsp\;&nbsp\;&nbsp\;&nbsp\;&nbsp\;&nbsp\;&nbsp\;&nbsp\; <span style="font-weight:bold\;language:en-US\;"><span style="font-family:times new roman\;"><span style="font-size:14.0pt\;">$250</span></span></span><br>\n<span style="font-style:italic\;language:en-US\;"><span style="font-family:times new roman\;"><span style="font-size:12.0pt\;">Your name seen on 2 beverage carts</span></span></span><br>\n<br>\n<span style="color:#FF0000\;"><span style="font-size:18px\;"><span style="font-family:times new roman\;">THANKS TO OUR SPONSORS</span></span></span><br>\n<em>BV BUILDERS<br>\nBEACON RETIREMENT PLANNING GROUP<br>\nBLUE FEDERAL CREDIT UNION<br>\nBLUEBIRD WINDOWS AND DOORS<br>\nIGADI<br>\nLAFAYETTE FLORIST<br>\nRENEWAL BY ANDERSEN<br>\nMR. HANDYMAN<br>\nHERBAL WELLNESS<br>\nAMERITECH WINDOWS<br>\nLEAFFILTER<br>\nCOMPLETE CARE CHIROPRACTIC<br>\nJAX FARM &amp\; RANCH/OUTDOOR GEAR<br>\nPASSANANTE'S HOME FOOD SERVICES<br>\nSTAN'S AUTOMOTIVE<br>\nSCL HEALTH/INTERMOUNTAIN HEALTHCARE<br>\nMCDONALD'S CARPET ONE<br>\nMORRELL PRINTING SERVICES<br>\nLIFE DENTISTRY<br>\nDAILY CAMERA/COLORADO HOMETOWN WEEKLY<br>\nNESHEIM'S CLEANING SERVICES</em></p>\n\n<p style="text-align: center\;">&nbsp\;</p>\n\n<p style="text-align: center\;"><br>\n<br>\n<br>\n<strong><span _fck_bookmark="1" style="display: none\;">&nbsp\;</span><span _fck_bookmark="1" style="display: none\;"> </span></strong></p>\n\n<p style="text-align: center\;"><br>\n<br>\n<br>\n&nbsp\;</p>\n\n<p style="text-align: center\;"><br>\n<br>\n<br>\n<br>\n&nbsp\;</p>\n\n<p style="text-align: center\;"><br>\n<br>\n<strong><span style="font-size:16px\;">&nbsp\;</span></strong><br>\n<br>\n<br>\n&nbsp\;</p>\n
LOCATION:Lake Valley Golf Club 4400 Lake Valley Dr.\, Longmont CO 80503
UID:e.1234.9500
SEQUENCE:3
DTSTAMP:20260423T105342Z
URL:http://lafayettecolorado.preview.gochambermaster.com/events/details/43rd-annual-black-diamond-open-september-18-9500
END:VEVENT

END:VCALENDAR
