BEGIN:VCALENDAR
VERSION:2.0
PRODID:-//ChamberMaster//Event Calendar 2.0//EN
METHOD:PUBLISH
X-PUBLISHED-TTL:P3D
REFRESH-INTERVAL:P3D
CALSCALE:GREGORIAN
BEGIN:VEVENT
DTSTART:20220412T180000Z
DTEND:20220412T183000Z
X-MICROSOFT-CDO-ALLDAYEVENT:FALSE
SUMMARY:3 Events this week! 2 Ribbon Cuttings and Green Business Breakfast.
DESCRIPTION:Ribbon Cutting\, Tuesday April 12 pm - Well Healing Center\n\nHelp us to celebrate the opening of a new Infrared Sauna at the Well Healing Center!\n\nInfrared Sauna has so many amazing benefits that up level your health and well-being and they are so excited to be adding it to their offerings at The Well!\n\n400 E. Simpson St.\, Ste. G7\n\nTuesday\, April 12th\, 12pm\n\n\nGreen Business Breakfast\, Thursday\, April 14\, 8-9 am - Lafayette Library\n\nAre you interested in greening your business? The City of Lafayette\, Louisville\, Town of Superior\,\n\nand Partners for a Clean Environment invite businesses to learn about local resources\,\n\nincentives\, and network with other businesses.\n\nCity of Lafayette businesses will be able to learn about the newly rebranded\n\nGreen Business Program\, recognition opportunities\, and upcoming programs geared to help businesses become green!\n\nOpen to all businesses!\n\nThursday\, April 14\, 8-9 am\, Lafayette Library\, 775 W. Baseline Rd.\n\nPlease register to attend!  RSVP By April 12.\n\n\n\nRibbon Cutting\, Thursday\, April 14\, 4:30pm - Westbound and Down Mill\n\nPlease join us in welcoming our new chamber member Westbound and Down Mill\n\nThursday\, April 14th at 4:30pm\n\nPlease invite other chamber members to attend!\n\nWestbound and Down Mill\n\n2755 Dagny Way Ste.101\n\nThursday\, April 14th at 4:30pm.
X-ALT-DESC;FMTTYPE=text/html:<hr /><strong>Ribbon Cutting\, Tuesday April 12 pm - Well Healing Center</strong><br />\nHelp us to celebrate the opening of a new Infrared Sauna at the Well Healing Center!<br />\nInfrared Sauna has so many amazing benefits that up level your health and well-being and they are so excited to be adding it to their offerings at The Well!<br />\n400 E. Simpson St.\, Ste. G7<br />\nTuesday\, April 12th\, 12pm\n<hr /><br />\n<strong>Green Business Breakfast\, Thursday\, April 14\, 8-9 am - Lafayette Library</strong><br />\nAre you interested in greening your business? The City of Lafayette\, Louisville\, Town of Superior\,<br />\nand Partners for a Clean Environment invite businesses to learn about local resources\,<br />\nincentives\, and network with other businesses.<br />\nCity of Lafayette businesses will be able to learn about the newly rebranded<br />\nGreen Business Program\, recognition opportunities\, and upcoming programs geared to help businesses become green!<br />\nOpen to all businesses!<br />\nThursday\, April 14\, 8-9 am\, Lafayette Library\, 775 W. Baseline Rd.<br />\n<strong><span style="font-size:20px\;"><span itemscope="" itemtype="http://schema.org/Event">Please<a href="https://www.eventbrite.com/e/green-business-breakfast-tickets-298797510397"> </a><a aria-describedby="audioeye_new_window_message" aria-label="register Opens in new window" href="https://www.eventbrite.com/e/green-business-breakfast-tickets-298797510397" rel="noopener" target="_blank">register</a> to attend!&nbsp\; RSVP By April 12.</span></span></strong>\n\n<hr /><br />\n<strong>Ribbon Cutting\, Thursday\, April 14\, 4:30pm - Westbound and Down Mill</strong><br />\nPlease join us in welcoming our new chamber member Westbound and Down Mill<br />\nThursday\, April 14th at 4:30pm<br />\nPlease invite other chamber members to attend!<br />\nWestbound and Down Mill<br />\n2755 Dagny Way Ste.101<br />\nThursday\, April 14th at 4:30pm.<br />\n<br />\n<br />\n&nbsp\;
LOCATION:Well Healing Center - 400 E. Simpson St.\, Ste. G7 Lafayette Library - 775 W. Baseline Rd. Westbound and Down Mill - 2755 Dagny Way Ste.101
UID:e.1234.9033
SEQUENCE:3
DTSTAMP:20260425T001710Z
URL:http://lafayettecolorado.preview.gochambermaster.com/events/details/3-events-this-week-2-ribbon-cuttings-and-green-business-breakfast-9033
END:VEVENT

END:VCALENDAR
