BEGIN:VCALENDAR
VERSION:2.0
PRODID:-//ChamberMaster//Event Calendar 2.0//EN
METHOD:PUBLISH
X-PUBLISHED-TTL:P3D
REFRESH-INTERVAL:P3D
CALSCALE:GREGORIAN
BEGIN:VEVENT
DTSTART:20260327T000000Z
DTEND:20260327T030000Z
X-MICROSOFT-CDO-ALLDAYEVENT:FALSE
SUMMARY:2026 Annual Awards Dinner
DESCRIPTION:2026 Annual Awards Dinner: Honoring our Legacy\, Inspiring What's Next\nJoin the Lafayette Chamber of Commerce on March 26\, 2026\, for one of our most meaningful events of the year. Held at the elegant Gatehouse Ballroom at Lionsgate Event Center\, the Annual Awards Dinner is your chance to stand alongside fellow business owners and community leaders to applaud stories of excellence. \n\nWe gather not only to celebrate the established legacy of our local business owners and community leaders but also to ignite the inspiration for what comes next in Lafayette! \n\n\n\nHelp us spotlight those who have made a lasting impact and those who are just beginning their journey! Nominate yourself or a deserving business via this Form. \n\nMore about the Evening: \n\n\n	Celebrate Excellence: Be there for the live announcement of our 2025 winners for the Community Impact Award\, Chamber Champion Award\, Spirit of Service Award\, and On the Rise Award.\n	Meaningful Networking: With an expected attendance of 150 people\, this is a great chance to connect with other influential community members in a festive atmosphere.\n	Invest in Lafayette: Your attendance supports the Chamber's year-round programs and initiatives that strengthen our local business community.\n	The Experience: Live band\, a photobooth and delicious local bites and beverages. Beer and Cider courtesy of Wilding Brands\, and wine provided by Vinnie Fera Winery\n	 The Schedule: \n	\n		Cocktail Hour at 6:00pm\n		Buffet Dinner at 7:00pm\n		Awards Program at 8:00pm\n		Prize Drawings at 8:30pm \n	\n	\n\n Cocktail attire is encouraged. \n\n\n\nEvent RSVP's and Awards nominations both close Sunday\, March 15th. \n\n\n\nThank you to all our event sponsors!
X-ALT-DESC;FMTTYPE=text/html:<span style="font-size:22px\;"><strong style="caret-color: rgb(0\, 0\, 0)\; color: rgb(0\, 0\, 0)\;">2026 Annual Awards Dinner: Honoring our Legacy\, Inspiring What&#39\;s Next</strong></span>\n<p style="caret-color: rgb(0\, 0\, 0)\; color: rgb(0\, 0\, 0)\;"><span style="font-size:16px\;">Join the Lafayette Chamber of Commerce on&nbsp\;March 26\, 2026\, for one of our most meaningful events of the year. Held at the elegant&nbsp\;Gatehouse Ballroom at Lionsgate Event Center\, the Annual Awards Dinner <span style="caret-color: rgb(0\, 0\, 0)\;">is your chance to stand alongside fellow business owners and community leaders to applaud stories of excellence.</span>&nbsp\;</span></p>\n\n<p style="caret-color: rgb(0\, 0\, 0)\; color: rgb(0\, 0\, 0)\;"><span style="font-size:16px\;">We gather not only to celebrate the established&nbsp\;legacy of our local business owners and community leaders&nbsp\;but also to ignite the&nbsp\;inspiration for what comes next&nbsp\;in Lafayette!&nbsp\;</span><br />\n<br />\n<span style="caret-color: rgb(0\, 0\, 0)\; font-size: 16px\;">Help us spotlight those who have made a lasting impact and those who are just beginning their journey!&nbsp\;Nominate yourself or a deserving business&nbsp\;</span><a href="https://docs.google.com/forms/d/e/1FAIpQLSeK66RXXScyTUOzZ2sTGBQZBGoxJ45c-RJm6YlhOcHRzbU3oA/viewform?usp=dialog" style="caret-color: rgb(0\, 0\, 0)\; font-size: 16px\;">via this Form</a><span style="caret-color: rgb(0\, 0\, 0)\; font-size: 16px\;">.&nbsp\;</span></p>\n\n<p style="caret-color: rgb(0\, 0\, 0)\; color: rgb(0\, 0\, 0)\;"><span style="font-size:16px\;"><strong>More about the Evening:&nbsp\;</strong></span></p>\n\n<ul style="caret-color: rgb(0\, 0\, 0)\; color: rgb(0\, 0\, 0)\;">\n	<li><span style="font-size:16px\;"><strong>Celebrate Excellence:</strong>&nbsp\;Be there for the live announcement of our 2025 winners for the Community Impact Award\, Chamber Champion Award\, Spirit of Service Award\, and On the Rise Award.</span></li>\n	<li><span style="font-size:16px\;"><strong>Meaningful Networking:</strong>&nbsp\;With an expected attendance of 150 people\, this is a great chance to connect with other influential community members in a festive atmosphere.</span></li>\n	<li><span style="font-size:16px\;"><strong>Invest in Lafayette:</strong>&nbsp\;Your attendance supports the Chamber&rsquo\;s year-round programs and initiatives that strengthen our local business community.</span></li>\n	<li><span style="font-size:16px\;"><strong>The Experience:</strong>&nbsp\;Live band\, a photobooth and delicious local bites and beverages. Beer and Cider courtesy of Wilding Brands\, and wine provided by&nbsp\;<span style="caret-color: rgb(0\, 0\, 0)\;">Vinnie Fera Winery</span></span></li>\n	<li><span style="font-size:16px\;"><span style="caret-color: rgb(0\, 0\, 0)\;">&#8203\;</span><strong>The Schedule:&nbsp\;</strong></span>\n	<ul>\n		<li><span style="font-size:16px\;">Cocktail Hour at 6:00pm</span></li>\n		<li><span style="font-size:16px\;">Buffet Dinner at&nbsp\;7:00pm</span></li>\n		<li><span style="font-size:16px\;">Awards Program at 8:00pm</span></li>\n		<li><span style="font-size:16px\;">Prize Drawings at 8:30pm&nbsp\;</span></li>\n	</ul>\n	</li>\n</ul>\n<span style="display: none\;">&nbsp\;</span><span style="color:#000000\;"><strong><em><span style="font-size:16px\;">Cocktail attire is encouraged.&nbsp\;</span></em></strong></span><br />\n<br />\n<span style="color:#000000\;"><span style="font-size:16px\;"><strong><em>Event RSVP&#39\;s and Awards nominations both close Sunday\, March 15th.&nbsp\;</em></strong></span></span><br />\n<br />\n<span style="color:#000000\;"><span style="caret-color: rgb(0\, 0\, 0)\; font-size: 16px\;">Thank you to all our event sponsors!</span></span>
LOCATION:Gatehouse Ballroom at Lionsgate Event Center
UID:e.1234.11718
SEQUENCE:3
DTSTAMP:20260420T134125Z
URL:http://lafayettecolorado.preview.gochambermaster.com/events/details/2026-annual-awards-dinner-11718
END:VEVENT

END:VCALENDAR
